BEGIN:VCALENDAR
VERSION:2.0
PRODID:-//Mujer Analítica - ECPv6.15.11//NONSGML v1.0//EN
CALSCALE:GREGORIAN
METHOD:PUBLISH
X-ORIGINAL-URL:https://mujeranalitica.com
X-WR-CALDESC:Eventos para Mujer Analítica
REFRESH-INTERVAL;VALUE=DURATION:PT1H
X-Robots-Tag:noindex
X-PUBLISHED-TTL:PT1H
BEGIN:VTIMEZONE
TZID:America/Caracas
BEGIN:STANDARD
TZOFFSETFROM:-0400
TZOFFSETTO:-0400
TZNAME:-04
DTSTART:20230101T000000
END:STANDARD
END:VTIMEZONE
BEGIN:VEVENT
DTSTART;TZID=America/Caracas:20240704T100000
DTEND;TZID=America/Caracas:20240704T120000
DTSTAMP:20260425T001128
CREATED:20240701T143905Z
LAST-MODIFIED:20240701T143905Z
UID:34324-1720087200-1720094400@mujeranalitica.com
SUMMARY:Master Class del Dr. Enrique Sánchez Costa
DESCRIPTION:La Asociación Civil Mujer y Ciudadanía conjuntamente con la Universidad Monteávila y la Asociación de Egresados de Universidad Monteávila \, se complacen en invitar a la Master Class del Dr. Enrique Sánchez Costa investigador en el uso de las nuevas tecnologías en la difusión de las humanidades. Premio Extraordinario de Doctorado de la Universidad Pompeu Fabra\, dirigido a líderes\, estudiantes\, ciudadanos en general que desean ampliar sus conocimientos en el manejo de las claves de la retórica política. \nSe realizará el jueves 04 de julio del 2024 en el Auditorio principal de la Universidad Monteavila en la Av. Buen Pastor\, Boleíta Norte \, Caracas\, Venezuela. \nEl link de inscripción es:\nhttps://forms.gle/ovrSdg1GuQJt3Vyd6 \nPara más información puedes escribir al correo: mycactividades@gmail.com o al WhatsApp B +58 4125263936
URL:https://mujeranalitica.com/evento/master-class-del-dr-enrique-sanchez-costa/
END:VEVENT
END:VCALENDAR