BEGIN:VCALENDAR
VERSION:2.0
PRODID:-//Mujer Analítica - ECPv6.15.11//NONSGML v1.0//EN
CALSCALE:GREGORIAN
METHOD:PUBLISH
X-WR-CALNAME:Mujer Analítica
X-ORIGINAL-URL:https://mujeranalitica.com
X-WR-CALDESC:Eventos para Mujer Analítica
REFRESH-INTERVAL;VALUE=DURATION:PT1H
X-Robots-Tag:noindex
X-PUBLISHED-TTL:PT1H
BEGIN:VTIMEZONE
TZID:America/Caracas
BEGIN:STANDARD
TZOFFSETFROM:-0400
TZOFFSETTO:-0400
TZNAME:-04
DTSTART:20230101T000000
END:STANDARD
END:VTIMEZONE
BEGIN:VEVENT
DTSTART;TZID=America/Caracas:20240710T170000
DTEND;TZID=America/Caracas:20240710T190000
DTSTAMP:20260425T001047
CREATED:20240707T150810Z
LAST-MODIFIED:20240707T150810Z
UID:34405-1720630800-1720638000@mujeranalitica.com
SUMMARY:Taller de Biodanza
DESCRIPTION:Te recordamos que este 10 de julio de 2024 tendremos una sesión especial de Biodanza\, donde realizaremos una vivencia directa de conexión con nuestro cuerpo\, emociones e interdependencia\, para así propiciar la integración y el fomento de ambientes más saludables\, creativos y productivos en medio de contextos de complejidad. \nEl taller será facilitado por Felix Rios y Marietta Perroni\, profesores de la Escuela Venezolana de Biodanza. \nFecha: Miércoles 10 de julio\nDuración: 5pm – 7pm. (Se sugiere llegar con 15 minutos de antelación)\nLugar: Impact Hub Caracas. \nLes recomendamos:\n👕 El uso de ropa cómoda que te permita moverte libremente.\n🥤Traer hidratación \nNota importante: los cupos son limitados\, por lo cual es necesario reservar tu participación AQUÍ\nhttps://docs.google.com/forms/d/e/1FAIpQLSerDtmMWpCUjPMKy6lYsNNCxp_aVpSPvHyXPS9nJevf-gCaWw/viewform\n¡Afinemos el poder creador de nuestra comunidad!\nNos vemos
URL:https://mujeranalitica.com/evento/taller-de-biodanza/
END:VEVENT
END:VCALENDAR