BEGIN:VCALENDAR
VERSION:2.0
PRODID:-//Mujer Analítica - ECPv6.15.11//NONSGML v1.0//EN
CALSCALE:GREGORIAN
METHOD:PUBLISH
X-ORIGINAL-URL:https://mujeranalitica.com
X-WR-CALDESC:Eventos para Mujer Analítica
REFRESH-INTERVAL;VALUE=DURATION:PT1H
X-Robots-Tag:noindex
X-PUBLISHED-TTL:PT1H
BEGIN:VTIMEZONE
TZID:America/Caracas
BEGIN:STANDARD
TZOFFSETFROM:-0400
TZOFFSETTO:-0400
TZNAME:-04
DTSTART:20230101T000000
END:STANDARD
END:VTIMEZONE
BEGIN:VEVENT
DTSTART;TZID=America/Caracas:20240725T180000
DTEND;TZID=America/Caracas:20240725T200000
DTSTAMP:20260425T001127
CREATED:20240721T163254Z
LAST-MODIFIED:20251216T235959Z
UID:34720-1721930400-1721937600@mujeranalitica.com
SUMMARY:Conferencia: No hay Paz sin Mujeres
DESCRIPTION:insta naughtybodybrittsophie rain sex video \n \nFederación de Mujeres para la Paz Mundial (WFWP) y la Asociación Internacional de Primeras Damas para la Paz (IAFLP) invitan cordialmente a participar en la conferencia virtual titulada «No hay paz sin mujeres». Esta conferencia se centrará en la pregunta «¿Qué aportan las mujeres a los procesos de paz\, la prevención de conflictos y la seguridad humana en los países del continente americano?». Detalles del evento: \nFecha: Jueves\, 25 de julio de 2024\nHora: 7:00 PM (hora de Argentina)\nParaguay: 6:00 PM\nMéxico: 5:00 PM\nColombia\, Perú: 5:00 PM\nVenezuela: 6:00 PM\nChile: 6:00 PM\nBrasil: 7:00 PM\nBolivia: 6:00 PM\nEnlace Zoom: https://us02web.zoom.us/j/82780843428?pwd=U3N1TlJYa2dzZmxzQVM5SUkwRE1Cdz09\nID de reunión: 827 8084 3428\nCódigo de acceso: 324482
URL:https://mujeranalitica.com/evento/conferencia-no-hay-paz-sin-mujeres/
END:VEVENT
END:VCALENDAR