BEGIN:VCALENDAR
VERSION:2.0
PRODID:-//Mujer Analítica - ECPv6.15.11//NONSGML v1.0//EN
CALSCALE:GREGORIAN
METHOD:PUBLISH
X-WR-CALNAME:Mujer Analítica
X-ORIGINAL-URL:https://mujeranalitica.com
X-WR-CALDESC:Eventos para Mujer Analítica
REFRESH-INTERVAL;VALUE=DURATION:PT1H
X-Robots-Tag:noindex
X-PUBLISHED-TTL:PT1H
BEGIN:VTIMEZONE
TZID:America/Caracas
BEGIN:STANDARD
TZOFFSETFROM:-0400
TZOFFSETTO:-0400
TZNAME:-04
DTSTART:20230101T000000
END:STANDARD
END:VTIMEZONE
BEGIN:VEVENT
DTSTART;TZID=America/Caracas:20240828T090000
DTEND;TZID=America/Caracas:20240828T110000
DTSTAMP:20260424T203918
CREATED:20240826T114907Z
LAST-MODIFIED:20240826T114907Z
UID:35859-1724835600-1724842800@mujeranalitica.com
SUMMARY:El papel del miedo en los cambios
DESCRIPTION:¡Te espero Miércoles 28.08 hablaremos del » Papel del miedo en los cambios»\nPrograma ENTIMUJER \nhttps://www.radiosintonia1420am.com.ve \n 
URL:https://mujeranalitica.com/evento/el-papel-del-miedo-en-los-cambios/
END:VEVENT
BEGIN:VEVENT
DTSTART;TZID=America/Caracas:20240828T170000
DTEND;TZID=America/Caracas:20240828T190000
DTSTAMP:20260424T203918
CREATED:20240828T140301Z
LAST-MODIFIED:20240828T140301Z
UID:35941-1724864400-1724871600@mujeranalitica.com
SUMMARY:Foro Chat: Digamos ¡NO! a la trata de personas
DESCRIPTION:¡Las personas no son mercancía: No se compran\, no se venden\, no se comercian! \nInvitada especial: Jholly Parra \nJholly Parra: Abogada con Especialización y Maestría en Derecho Procesal Pena y en Ciencias Jurídicas\, activista por los Derechos Humanos. Trabajadora con las comunidades por medio de charlas y orientación sobre temas de contenido jurídico. Coordinadora Académica del Instituto de Estudios Jurídicos “Dr. Santiago Briceño” del Colegio de Abogados del Estado Táchira (Año 2007). Docente universitaria. Fundadora de “Por una Vida Digna”\, organizacion sin fines de lucro en defensa de los derechos humanos de los venezolanos. Vicepresidenta del Tribunal Disciplinario del Colegio de Abogados del estado Táchira. \nParticipa uniéndote a nuestro grupo de Whatsapp:\nhttps://chat.whatsapp.com/D2BLSD06MhN6n3vRVka1vz \nMiércoles 28 de agosto 2024. 5:00pm (hora Venezuela) \nMujer y Ciudadanía\nFormando mujeres…construyendo ciudadanía
URL:https://mujeranalitica.com/evento/foro-chat-digamos-no-a-la-trata-de-personas/
END:VEVENT
END:VCALENDAR