BEGIN:VCALENDAR
VERSION:2.0
PRODID:-//Mujer Analítica - ECPv6.15.11//NONSGML v1.0//EN
CALSCALE:GREGORIAN
METHOD:PUBLISH
X-WR-CALNAME:Mujer Analítica
X-ORIGINAL-URL:https://mujeranalitica.com
X-WR-CALDESC:Eventos para Mujer Analítica
REFRESH-INTERVAL;VALUE=DURATION:PT1H
X-Robots-Tag:noindex
X-PUBLISHED-TTL:PT1H
BEGIN:VTIMEZONE
TZID:America/Caracas
BEGIN:STANDARD
TZOFFSETFROM:-0400
TZOFFSETTO:-0400
TZNAME:-04
DTSTART:20230101T000000
END:STANDARD
END:VTIMEZONE
BEGIN:VEVENT
DTSTART;TZID=America/Caracas:20240901T080000
DTEND;TZID=America/Caracas:20240901T170000
DTSTAMP:20260424T203927
CREATED:20240901T204401Z
LAST-MODIFIED:20240901T204401Z
UID:36083-1725177600-1725210000@mujeranalitica.com
SUMMARY:Entrevista a  Piedad Bonnett\,  Premio Reina Sofía de las letras iberoamericanas
DESCRIPTION:Cultura Mundis en alianza con Editorial Diosa Blanca\,  en la celebración de sus 31 años se honran en recibir en su espacio POETIZANDO a \nPiedad Bonnett\, Premio Reina Sofía de las letras iberoamericanas \nUna de las más destacadas poetas y narradoras latinoamericanas del momento. Podremos conocer su visión de la actualidad\, el mundo de su poesía y profundizar en la historia de su novela «Donde nadie me espere» \nEntrevistan: Ana María Hurtado\, Edgar Vidaurre y Johnny Gavlovski \nENTRADA LIBRE AL REGISTRARTE: https://culturamundis.com/2024/08/poetizando-con-piedad-bonnett/ \nNOTA IMPORTANTE:  (Una vez te registres\, recibirás en tu correo el link de acceso\, si no lo ves revisa tu carpeta spam) \nCULTURA MUNDIS\, TU VENTANA AL MUNDO
URL:https://mujeranalitica.com/evento/entrevista-a-piedad-bonnett-premio-reina-sofia-de-las-letras-iberoamericanas/
END:VEVENT
BEGIN:VEVENT
DTSTART;TZID=America/Caracas:20240901T140000
DTEND;TZID=America/Caracas:20240901T200000
DTSTAMP:20260424T203927
CREATED:20240901T150701Z
LAST-MODIFIED:20240901T150701Z
UID:36061-1725199200-1725220800@mujeranalitica.com
SUMMARY:Maratón Bailable
DESCRIPTION:«Maratón Bailable»\nMás de 6 horas ininterrumpidas de música de todo tipo para bailar y bailar sin parar!!! \nSin interrupciones\, sin concursos\, sin pausas \nPura Musica\, música y más música 🎵🎼💃🕺🎼🎵 \nCorre la voz y lleva tu grupo familiar y de amigos!!! 🗣️🗣️ \n🎛️🎧Dj Jeffrey KPS 🎧🎛️ \n🎟️Cover: 4$ (2 bebidas incluidas) \nLugar: Ron Place(C.C. Buenaventura\, Vista Place\, Planta Baja)
URL:https://mujeranalitica.com/evento/maraton-bailable/
END:VEVENT
END:VCALENDAR