BEGIN:VCALENDAR
VERSION:2.0
PRODID:-//Mujer Analítica - ECPv6.15.11//NONSGML v1.0//EN
CALSCALE:GREGORIAN
METHOD:PUBLISH
X-ORIGINAL-URL:https://mujeranalitica.com
X-WR-CALDESC:Eventos para Mujer Analítica
REFRESH-INTERVAL;VALUE=DURATION:PT1H
X-Robots-Tag:noindex
X-PUBLISHED-TTL:PT1H
BEGIN:VTIMEZONE
TZID:America/Caracas
BEGIN:STANDARD
TZOFFSETFROM:-0400
TZOFFSETTO:-0400
TZNAME:-04
DTSTART:20230101T000000
END:STANDARD
END:VTIMEZONE
BEGIN:VEVENT
DTSTART;TZID=America/Caracas:20240906T160000
DTEND;TZID=America/Caracas:20240930T180000
DTSTAMP:20260424T204123
CREATED:20240906T135754Z
LAST-MODIFIED:20240906T135754Z
UID:36236-1725638400-1727719200@mujeranalitica.com
SUMMARY:“El último vals de la emperatriz Sissi”
DESCRIPTION:“El último vals de la emperatriz Sissi” en el Teatro de la Asociación Cultural Humboldt en septiembre 2024 a las 4 pm. Venta en taquilla del teatro. \n“El último vals de la emperatriz Sissi”\, escrita y dirigida por Elizabeth Yrausquín de Postalian con música de Luis Izquierdo\, \nestá inspirada en los últimos días de Elisabeth de Baviera\, emperatriz de Austria y reina consorte de Hungría\, quien\, cual golondrina errante y lejos de su familia\, surcaba mares para conquistar la tan ansiada libertad que lograría alcanzar\, finalmente\, mediante su famoso asesinato en Ginebra\, el 10 de septiembre de 1898.
URL:https://mujeranalitica.com/evento/el-ultimo-vals-de-la-emperatriz-sissi/
END:VEVENT
BEGIN:VEVENT
DTSTART;TZID=America/Caracas:20240907T190000
DTEND;TZID=America/Caracas:20240929T210000
DTSTAMP:20260424T204123
CREATED:20240906T140750Z
LAST-MODIFIED:20240906T140807Z
UID:36244-1725735600-1727643600@mujeranalitica.com
SUMMARY:‘Divorciadas\, evangélicas y vegetarianas’ llega al Trasnocho Cultural
DESCRIPTION:La obra se presentará en el Espacio Plural de Trasnocho Cultural desde el viernes 30 de agosto en los horarios 7:30pm\, y sábados y domingos a las 7:00pm. Las entradas para disfrutar de pieza teatral puedes adquirirlas en las taquillas del teatro. \nPara más información de los distintos eventos que realiza en el Trasnocho Cultural pueden ingresar a las redes sociales @Trasnochocult y en la página www.trasnochocultural.com
URL:https://mujeranalitica.com/evento/divorciadas-evangelicas-y-vegetarianas-llega-al-trasnocho-cultural/
END:VEVENT
BEGIN:VEVENT
DTSTART;TZID=America/Caracas:20240918T080000
DTEND;TZID=America/Caracas:20241018T170000
DTSTAMP:20260424T204123
CREATED:20240923T233609Z
LAST-MODIFIED:20240923T233609Z
UID:36589-1726646400-1729270800@mujeranalitica.com
SUMMARY:Convocatoria de Casting
DESCRIPTION:
URL:https://mujeranalitica.com/evento/convocatoria-de-casting/
END:VEVENT
BEGIN:VEVENT
DTSTART;TZID=America/Caracas:20240921T110000
DTEND;TZID=America/Caracas:20240928T160000
DTSTAMP:20260424T204123
CREATED:20240917T150726Z
LAST-MODIFIED:20240917T150756Z
UID:36449-1726916400-1727539200@mujeranalitica.com
SUMMARY:Muestra de fotografía digital y pintura al óleo: “Intervenciones” de Angela González
DESCRIPTION:Tenemos el placer de invitarle a la inauguración de la muestra “Intervenciones” de Angela González el próximo sábado 21 de septiembre a las 11:00 am en la Asociación Cultural Humboldt. La exposición estará disponible hasta la primera semana de noviembre \nEsta muestra es el resultado de años de investigación y experimentación artística\, en los que se ha explorado la fusión entre la fotografía digital y la pintura al óleo. \n“Las imágenes revelan sentimientos\, y cada una tiene una historia de sensaciones y de instantes detenidos por la cámara\, y allí se entrecruza la naturaleza con lo poético” indica Angela González sobre el proceso de creación de las fotografías. \nLos horarios de la muestra serán de lunes a viernes con previa cita y sábados y domingos de 11:00 am a 4:00 pm \n¡Te esperamos!
URL:https://mujeranalitica.com/evento/muestra-de-fotografia-digital-y-la-pintura-al-oleo-intervenciones-de-angela-gonzalez/
END:VEVENT
END:VCALENDAR