BEGIN:VCALENDAR
VERSION:2.0
PRODID:-//Mujer Analítica - ECPv6.15.11//NONSGML v1.0//EN
CALSCALE:GREGORIAN
METHOD:PUBLISH
X-ORIGINAL-URL:https://mujeranalitica.com
X-WR-CALDESC:Eventos para Mujer Analítica
REFRESH-INTERVAL;VALUE=DURATION:PT1H
X-Robots-Tag:noindex
X-PUBLISHED-TTL:PT1H
BEGIN:VTIMEZONE
TZID:America/Caracas
BEGIN:STANDARD
TZOFFSETFROM:-0400
TZOFFSETTO:-0400
TZNAME:-04
DTSTART:20230101T000000
END:STANDARD
END:VTIMEZONE
BEGIN:VEVENT
DTSTART;TZID=America/Caracas:20241124T180000
DTEND;TZID=America/Caracas:20241225T210000
DTSTAMP:20260424T153146
CREATED:20241111T194349Z
LAST-MODIFIED:20241111T194349Z
UID:37741-1732471200-1735160400@mujeranalitica.com
SUMMARY:VI Foro Regional Mujeres de las Américas
DESCRIPTION:Invitación al VI Foro Regional Mujeres de las Américas \nEl Centro de Liderazgo para Mujeres de las Américas\, la Comisión de Mujeres de REDLAD y la Asociación Civil Mujer y Ciudadanía te invitan al *VI Foro Regional Mujeres de las Américas: Hacia una democracia y participación paritaria de las mujeres para lograr la igualdad de género en las Américas. \n🗓️ Fechas: Lunes 25 y martes 26 de noviembre de 2024\n🕔 Hora: 5:00 pm a 8:00 pm (Hora Perú) 6:00 pm a 9:00 pm (Hora Venezuela)\n📍 Modalidad: Evento virtual y gratuito \nAl final de la jornada se emitirá La Declaración del VI Foro Regional de las Américas. \nInscripción: Llena el formulario aquí: https://forms.gle/LjJY4q1LgidMmXok8 \nPara más información\, escribe a: clmamericas.peru@gmail.com o síguenos en nuestras redes sociales:\n@CLAMericas\n@Mujeryciudadania\n@Redlad\nwww.mujeranalitica.com
URL:https://mujeranalitica.com/evento/vi-foro-regional-mujeres-de-las-americas-2/
END:VEVENT
BEGIN:VEVENT
DTSTART;TZID=America/Caracas:20241125T080000
DTEND;TZID=America/Caracas:20241126T170000
DTSTAMP:20260424T153146
CREATED:20241108T151920Z
LAST-MODIFIED:20241108T151920Z
UID:37659-1732521600-1732640400@mujeranalitica.com
SUMMARY:VI Foro Regional "Mujeres de las Américas"
DESCRIPTION:
URL:https://mujeranalitica.com/evento/vi-foro-regional-mujeres-de-las-americas/
END:VEVENT
BEGIN:VEVENT
DTSTART;TZID=America/Caracas:20241125T133000
DTEND;TZID=America/Caracas:20241125T153000
DTSTAMP:20260424T153146
CREATED:20241124T222900Z
LAST-MODIFIED:20241124T222900Z
UID:38036-1732541400-1732548600@mujeranalitica.com
SUMMARY:Sola: Espectáculo Teatral
DESCRIPTION:
URL:https://mujeranalitica.com/evento/sola-espectaculo-teatral/
END:VEVENT
END:VCALENDAR