BEGIN:VCALENDAR
VERSION:2.0
PRODID:-//Mujer Analítica - ECPv6.15.11//NONSGML v1.0//EN
CALSCALE:GREGORIAN
METHOD:PUBLISH
X-WR-CALNAME:Mujer Analítica
X-ORIGINAL-URL:https://mujeranalitica.com
X-WR-CALDESC:Eventos para Mujer Analítica
REFRESH-INTERVAL;VALUE=DURATION:PT1H
X-Robots-Tag:noindex
X-PUBLISHED-TTL:PT1H
BEGIN:VTIMEZONE
TZID:America/Caracas
BEGIN:STANDARD
TZOFFSETFROM:-0400
TZOFFSETTO:-0400
TZNAME:-04
DTSTART:20230101T000000
END:STANDARD
END:VTIMEZONE
BEGIN:VEVENT
DTSTART;TZID=America/Caracas:20241124T180000
DTEND;TZID=America/Caracas:20241225T210000
DTSTAMP:20260424T152858
CREATED:20241111T194349Z
LAST-MODIFIED:20241111T194349Z
UID:37741-1732471200-1735160400@mujeranalitica.com
SUMMARY:VI Foro Regional Mujeres de las Américas
DESCRIPTION:Invitación al VI Foro Regional Mujeres de las Américas \nEl Centro de Liderazgo para Mujeres de las Américas\, la Comisión de Mujeres de REDLAD y la Asociación Civil Mujer y Ciudadanía te invitan al *VI Foro Regional Mujeres de las Américas: Hacia una democracia y participación paritaria de las mujeres para lograr la igualdad de género en las Américas. \n🗓️ Fechas: Lunes 25 y martes 26 de noviembre de 2024\n🕔 Hora: 5:00 pm a 8:00 pm (Hora Perú) 6:00 pm a 9:00 pm (Hora Venezuela)\n📍 Modalidad: Evento virtual y gratuito \nAl final de la jornada se emitirá La Declaración del VI Foro Regional de las Américas. \nInscripción: Llena el formulario aquí: https://forms.gle/LjJY4q1LgidMmXok8 \nPara más información\, escribe a: clmamericas.peru@gmail.com o síguenos en nuestras redes sociales:\n@CLAMericas\n@Mujeryciudadania\n@Redlad\nwww.mujeranalitica.com
URL:https://mujeranalitica.com/evento/vi-foro-regional-mujeres-de-las-americas-2/
END:VEVENT
BEGIN:VEVENT
DTSTART;TZID=America/Caracas:20241127T170000
DTEND;TZID=America/Caracas:20241127T190000
DTSTAMP:20260424T152858
CREATED:20241125T204221Z
LAST-MODIFIED:20241125T204221Z
UID:38083-1732726800-1732734000@mujeranalitica.com
SUMMARY:Foro Chat: El Sentido de la Vida
DESCRIPTION:
URL:https://mujeranalitica.com/evento/foro-chat-el-sentido-de-la-vida/
END:VEVENT
BEGIN:VEVENT
DTSTART;TZID=America/Caracas:20241127T190000
DTEND;TZID=America/Caracas:20241127T200000
DTSTAMP:20260424T152858
CREATED:20241125T122709Z
LAST-MODIFIED:20241125T122821Z
UID:38064-1732734000-1732737600@mujeranalitica.com
SUMMARY:Foro "Cuidados digitales: Prevención y mitigación de la Violencia Digital Basada en Género"
DESCRIPTION:Todas estamos expuestas a que nuestra voz sea clonada o nuestra identidad sea suplantada\, y estas situaciones están muy vinculadas a nuevas formas de phishing y deepfakes que hay en la red. ¡Afortunadamente\, hoy día contamos con herramientas para detectarlas!. \nEn el marco de los #16DiasPorActivismo en contra de la violencia basada en género\, ¡Abrimos nuevos talleres sobre prevención de violencia digital\, en los que aprenderás a protegerte y a navegar de manera segura en el mundo digital. \nDescubrirás cómo la inteligencia artificial está cambiando el panorama de la ciberdelincuencia y cómo puedes estar un paso adelante. \nInscríbete AQUI:  https://tally.so/r/312LMb y empodérate con el conocimiento necesario para combatir la violencia digital. \n¡El futuro es más seguro cuando estamos informadas!.
URL:https://mujeranalitica.com/evento/foro-cuidados-digitales-prevencion-y-mitigacion-de-la-violencia-digital-basada-en-genero/
END:VEVENT
END:VCALENDAR