BEGIN:VCALENDAR
VERSION:2.0
PRODID:-//Mujer Analítica - ECPv6.15.11//NONSGML v1.0//EN
CALSCALE:GREGORIAN
METHOD:PUBLISH
X-ORIGINAL-URL:https://mujeranalitica.com
X-WR-CALDESC:Eventos para Mujer Analítica
REFRESH-INTERVAL;VALUE=DURATION:PT1H
X-Robots-Tag:noindex
X-PUBLISHED-TTL:PT1H
BEGIN:VTIMEZONE
TZID:America/Caracas
BEGIN:STANDARD
TZOFFSETFROM:-0400
TZOFFSETTO:-0400
TZNAME:-04
DTSTART:20240101T000000
END:STANDARD
END:VTIMEZONE
BEGIN:VEVENT
DTSTART;TZID=America/Caracas:20250219T080000
DTEND;TZID=America/Caracas:20250228T170000
DTSTAMP:20260424T105417
CREATED:20250219T195535Z
LAST-MODIFIED:20250219T195535Z
UID:39548-1739952000-1740762000@mujeranalitica.com
SUMMARY:Programa de Formación sobre Escritura de Guiones de Ficción
DESCRIPTION:Programa de Formación «Escritura de Guiones de Ficción». Aprende de la mano del «Dream Team de Guionistas» Gustavo Michelena\, Edgar Mejías y Rolando Chávez quienes junto a Anisbel Trómpiz y Carlos Lasala darán esta formación. \nNo dejes pasar esta oportunidad. Cupos limitados y se agotan rápido. \nEscribe  al WA 0424-2592659 para mas información. ¡No te lo pierdas!
URL:https://mujeranalitica.com/evento/programa-de-formacion-sobre-escritura-de-guiones-de-ficcion/
END:VEVENT
BEGIN:VEVENT
DTSTART;TZID=America/Caracas:20250226T160000
DTEND;TZID=America/Caracas:20250226T180000
DTSTAMP:20260424T105417
CREATED:20250220T210056Z
LAST-MODIFIED:20250220T210056Z
UID:39564-1740585600-1740592800@mujeranalitica.com
SUMMARY:Charla: La importancia de la cultura Indígena en la gastronomía venezolana
DESCRIPTION:
URL:https://mujeranalitica.com/evento/charla-la-importancia-de-la-cultura-indigena-en-la-gastronomia-venezolana/
END:VEVENT
END:VCALENDAR