BEGIN:VCALENDAR
VERSION:2.0
PRODID:-//Mujer Analítica - ECPv6.15.11//NONSGML v1.0//EN
CALSCALE:GREGORIAN
METHOD:PUBLISH
X-WR-CALNAME:Mujer Analítica
X-ORIGINAL-URL:https://mujeranalitica.com
X-WR-CALDESC:Eventos para Mujer Analítica
REFRESH-INTERVAL;VALUE=DURATION:PT1H
X-Robots-Tag:noindex
X-PUBLISHED-TTL:PT1H
BEGIN:VTIMEZONE
TZID:America/Caracas
BEGIN:STANDARD
TZOFFSETFROM:-0400
TZOFFSETTO:-0400
TZNAME:-04
DTSTART:20240101T000000
END:STANDARD
END:VTIMEZONE
BEGIN:VEVENT
DTSTART;TZID=America/Caracas:20250305T150000
DTEND;TZID=America/Caracas:20250305T170000
DTSTAMP:20260424T105213
CREATED:20241227T135617Z
LAST-MODIFIED:20241227T135617Z
UID:38851-1741186800-1741194000@mujeranalitica.com
SUMMARY:400 años de escritura de mujer
DESCRIPTION:
URL:https://mujeranalitica.com/evento/400-anos-de-escritura-de-mujer/
END:VEVENT
END:VCALENDAR