BEGIN:VCALENDAR
VERSION:2.0
PRODID:-//Mujer Analítica - ECPv6.15.11//NONSGML v1.0//EN
CALSCALE:GREGORIAN
METHOD:PUBLISH
X-ORIGINAL-URL:https://mujeranalitica.com
X-WR-CALDESC:Eventos para Mujer Analítica
REFRESH-INTERVAL;VALUE=DURATION:PT1H
X-Robots-Tag:noindex
X-PUBLISHED-TTL:PT1H
BEGIN:VTIMEZONE
TZID:America/Caracas
BEGIN:STANDARD
TZOFFSETFROM:-0400
TZOFFSETTO:-0400
TZNAME:-04
DTSTART:20240101T000000
END:STANDARD
END:VTIMEZONE
BEGIN:VEVENT
DTSTART;TZID=America/Caracas:20250321T180000
DTEND;TZID=America/Caracas:20250321T200000
DTSTAMP:20260424T105518
CREATED:20250315T135350Z
LAST-MODIFIED:20250315T135350Z
UID:39753-1742580000-1742587200@mujeranalitica.com
SUMMARY:Simone. La mujer del siglo
DESCRIPTION:Esta es una película sobre un icono irrepetible en la lucha por los derechos de la mujer. La historia de Simone Veil. \nEs un espacio de la Fundación Gran Cine\, sus aliados CC Líder\, quienes junto a Mujer y Ciudadanía\, Espacio Anna Frank\, la Embajada de Francia en Venezuela\, y el Comité Venezolano de Yad Vashem para la recordación del Holocausto\, invitan para conmemorar el Mes de la Mujer con esta película Simone. La mujer del siglo (2022)\, dirigida y escrita por Olivier Dahan. \nEste filme biográfico francés relata la vida\, las luchas políticas y las tragedias de Simone Veil\, abogada y política francesa sobreviviente del Holocausto\, quien en la cinta es interpretada por las actrices Elsa Zylberstein y Rebecca Marder (esta última\, en sus años juveniles).\nEs un retrato épico e íntimo de una mujer con un recorrido vital fuera de lo común\, quien revolucionó su época defendiendo un mensaje humanista que pervive hasta hoy. \nLa actividad estará acompañada con los comentarios del Profesor Miguel Osers\, vicepresidente del Comité Venezolano de Yad Vashem para la recordación del Holocausto\, quien nos hablará de la experiencia de su padre en el Campo de Concentración de Auschwitz. \nTe esperamos en esta actividad de entrada libre en Cine Ávila Líder\, en el CC Líder Av. Fco. De Miranda el viernes 21 de marzo a las 6:00 pm (inicio puntual).\nEs una oportunidad extraordinaria para ver esta gran película sobre la mujer y su empoderamiento y su vivencia en el holocausto. \n¡No te lo pierdas!
URL:https://mujeranalitica.com/evento/simone-la-mujer-del-siglo/
END:VEVENT
END:VCALENDAR