BEGIN:VCALENDAR
VERSION:2.0
PRODID:-//Mujer Analítica - ECPv6.15.11//NONSGML v1.0//EN
CALSCALE:GREGORIAN
METHOD:PUBLISH
X-ORIGINAL-URL:https://mujeranalitica.com
X-WR-CALDESC:Eventos para Mujer Analítica
REFRESH-INTERVAL;VALUE=DURATION:PT1H
X-Robots-Tag:noindex
X-PUBLISHED-TTL:PT1H
BEGIN:VTIMEZONE
TZID:America/Caracas
BEGIN:STANDARD
TZOFFSETFROM:-0400
TZOFFSETTO:-0400
TZNAME:-04
DTSTART:20240101T000000
END:STANDARD
END:VTIMEZONE
BEGIN:VEVENT
DTSTART;TZID=America/Caracas:20250604T170000
DTEND;TZID=America/Caracas:20250604T190000
DTSTAMP:20260424T050655
CREATED:20250603T143637Z
LAST-MODIFIED:20250603T143637Z
UID:40786-1749056400-1749063600@mujeranalitica.com
SUMMARY:Foro Chat: Ley de Transporte Terrestre: Deberes y Derechos de Propietarios y Conductores
DESCRIPTION:
URL:https://mujeranalitica.com/evento/foro-chat-ley-de-transporte-terrestre-deberes-y-derechos-de-propietarios-y-conductores/
END:VEVENT
END:VCALENDAR