BEGIN:VCALENDAR
VERSION:2.0
PRODID:-//Mujer Analítica - ECPv6.15.11//NONSGML v1.0//EN
CALSCALE:GREGORIAN
METHOD:PUBLISH
X-ORIGINAL-URL:https://mujeranalitica.com
X-WR-CALDESC:Eventos para Mujer Analítica
REFRESH-INTERVAL;VALUE=DURATION:PT1H
X-Robots-Tag:noindex
X-PUBLISHED-TTL:PT1H
BEGIN:VTIMEZONE
TZID:America/Caracas
BEGIN:STANDARD
TZOFFSETFROM:-0400
TZOFFSETTO:-0400
TZNAME:-04
DTSTART:20240101T000000
END:STANDARD
END:VTIMEZONE
BEGIN:VEVENT
DTSTART;TZID=America/Caracas:20250606T130000
DTEND;TZID=America/Caracas:20250606T170000
DTSTAMP:20260424T062900
CREATED:20250603T125453Z
LAST-MODIFIED:20250603T125453Z
UID:40779-1749214800-1749229200@mujeranalitica.com
SUMMARY:Taller de Implementación de un Proyecto de Desarrollo Comunitario
DESCRIPTION:
URL:https://mujeranalitica.com/evento/taller-de-implementacion-de-un-proyecto-de-desarrollo-comunitario/
END:VEVENT
END:VCALENDAR