BEGIN:VCALENDAR
VERSION:2.0
PRODID:-//Mujer Analítica - ECPv6.15.11//NONSGML v1.0//EN
CALSCALE:GREGORIAN
METHOD:PUBLISH
X-ORIGINAL-URL:https://mujeranalitica.com
X-WR-CALDESC:Eventos para Mujer Analítica
REFRESH-INTERVAL;VALUE=DURATION:PT1H
X-Robots-Tag:noindex
X-PUBLISHED-TTL:PT1H
BEGIN:VTIMEZONE
TZID:America/Caracas
BEGIN:STANDARD
TZOFFSETFROM:-0400
TZOFFSETTO:-0400
TZNAME:-04
DTSTART:20240101T000000
END:STANDARD
END:VTIMEZONE
BEGIN:VEVENT
DTSTART;TZID=America/Caracas:20250625T170000
DTEND;TZID=America/Caracas:20250625T190000
DTSTAMP:20260424T050654
CREATED:20250624T182729Z
LAST-MODIFIED:20250624T182729Z
UID:41040-1750870800-1750878000@mujeranalitica.com
SUMMARY:Foro Chat: El Emprendimiento Femenino en Venezuela
DESCRIPTION:📅 Fecha: Miércoles 25 de junio 2025\n🕰️ Hora: 5:00pm (Hora Venezuela)\n📍 Modalidad: Foro Chat por Whatsapp\n🔗 Únete al grupo: https://chat.whatsapp.com/D2BLSD06MhN6n3vRVka1vz \nMujer y Ciudadanía\nFormando mujeres…construyendo ciudadanía\n@mujeryciudadania\nwww.mujeranalitica.com
URL:https://mujeranalitica.com/evento/foro-chat-el-emprendimiento-femenino-en-venezuela/
END:VEVENT
END:VCALENDAR