BEGIN:VCALENDAR
VERSION:2.0
PRODID:-//Mujer Analítica - ECPv6.15.11//NONSGML v1.0//EN
CALSCALE:GREGORIAN
METHOD:PUBLISH
X-WR-CALNAME:Mujer Analítica
X-ORIGINAL-URL:https://mujeranalitica.com
X-WR-CALDESC:Eventos para Mujer Analítica
REFRESH-INTERVAL;VALUE=DURATION:PT1H
X-Robots-Tag:noindex
X-PUBLISHED-TTL:PT1H
BEGIN:VTIMEZONE
TZID:America/Caracas
BEGIN:STANDARD
TZOFFSETFROM:-0400
TZOFFSETTO:-0400
TZNAME:-04
DTSTART:20240101T000000
END:STANDARD
END:VTIMEZONE
BEGIN:VEVENT
DTSTART;TZID=America/Caracas:20250628T100000
DTEND;TZID=America/Caracas:20250628T180000
DTSTAMP:20260424T062738
CREATED:20250627T144619Z
LAST-MODIFIED:20250627T144619Z
UID:41073-1751104800-1751133600@mujeranalitica.com
SUMMARY:Exposición: Maestras del Paisaje
DESCRIPTION:
URL:https://mujeranalitica.com/evento/exposicion-maestras-del-paisaje/
END:VEVENT
END:VCALENDAR