BEGIN:VCALENDAR
VERSION:2.0
PRODID:-//Mujer Analítica - ECPv6.15.11//NONSGML v1.0//EN
CALSCALE:GREGORIAN
METHOD:PUBLISH
X-WR-CALNAME:Mujer Analítica
X-ORIGINAL-URL:https://mujeranalitica.com
X-WR-CALDESC:Eventos para Mujer Analítica
REFRESH-INTERVAL;VALUE=DURATION:PT1H
X-Robots-Tag:noindex
X-PUBLISHED-TTL:PT1H
BEGIN:VTIMEZONE
TZID:America/Caracas
BEGIN:STANDARD
TZOFFSETFROM:-0400
TZOFFSETTO:-0400
TZNAME:-04
DTSTART:20240101T000000
END:STANDARD
END:VTIMEZONE
BEGIN:VEVENT
DTSTART;TZID=America/Caracas:20250709T170000
DTEND;TZID=America/Caracas:20250709T190000
DTSTAMP:20260424T033040
CREATED:20250709T143515Z
LAST-MODIFIED:20250709T143515Z
UID:41183-1752080400-1752087600@mujeranalitica.com
SUMMARY:Foro Chat:  Repotencia tu Pyme
DESCRIPTION:🌟 Participa ingresando a uno de nuestros grupos de whatsapp:\nGrupo 1\nhttps://chat.whatsapp.com/HJOYNnTEbyCEEm1XxOkpsa\nGrupo 2\nhttps://chat.whatsapp.com/D2BLSD06MhN6n3vRVka1vz\nGrupo 3\nhttps://chat.whatsapp.com/BauH7OXQcuVBhGUkJgm27V \nMujer y Ciudadanía\nFormando mujeres…construyendo ciudadanía
URL:https://mujeranalitica.com/evento/foro-chat-repotencia-tu-pyme/
END:VEVENT
END:VCALENDAR