BEGIN:VCALENDAR
VERSION:2.0
PRODID:-//Mujer Analítica - ECPv6.15.11//NONSGML v1.0//EN
CALSCALE:GREGORIAN
METHOD:PUBLISH
X-WR-CALNAME:Mujer Analítica
X-ORIGINAL-URL:https://mujeranalitica.com
X-WR-CALDESC:Eventos para Mujer Analítica
REFRESH-INTERVAL;VALUE=DURATION:PT1H
X-Robots-Tag:noindex
X-PUBLISHED-TTL:PT1H
BEGIN:VTIMEZONE
TZID:America/Caracas
BEGIN:STANDARD
TZOFFSETFROM:-0400
TZOFFSETTO:-0400
TZNAME:-04
DTSTART:20240101T000000
END:STANDARD
END:VTIMEZONE
BEGIN:VEVENT
DTSTART;TZID=America/Caracas:20250730T170000
DTEND;TZID=America/Caracas:20250730T190000
DTSTAMP:20260424T033017
CREATED:20250802T222143Z
LAST-MODIFIED:20250802T222143Z
UID:41521-1753894800-1753902000@mujeranalitica.com
SUMMARY:Foro Chat: Implantes Dentales vs. Prótesis Fija
DESCRIPTION:📆 Fecha: Miércoles 30 de julio 2025\n🕜 Hora: 5:00pm (Hora Venezuela)\n📱 Aplicación: Whatsapp \n🤳🏻 Ingresa a nuestro grupo del Foro Chat:\nhttps://chat.whatsapp.com/D2BLSD06MhN6n3vRVka1vz \nMujer y Ciudadanía\nFormando mujeres…construyendo ciudadanía
URL:https://mujeranalitica.com/evento/foro-chat-implantes-dentales-vs-protesis-fija/
END:VEVENT
END:VCALENDAR