BEGIN:VCALENDAR
VERSION:2.0
PRODID:-//Mujer Analítica - ECPv6.15.11//NONSGML v1.0//EN
CALSCALE:GREGORIAN
METHOD:PUBLISH
X-WR-CALNAME:Mujer Analítica
X-ORIGINAL-URL:https://mujeranalitica.com
X-WR-CALDESC:Eventos para Mujer Analítica
REFRESH-INTERVAL;VALUE=DURATION:PT1H
X-Robots-Tag:noindex
X-PUBLISHED-TTL:PT1H
BEGIN:VTIMEZONE
TZID:America/Caracas
BEGIN:STANDARD
TZOFFSETFROM:-0400
TZOFFSETTO:-0400
TZNAME:-04
DTSTART:20240101T000000
END:STANDARD
END:VTIMEZONE
BEGIN:VEVENT
DTSTART;TZID=America/Caracas:20250813T163000
DTEND;TZID=America/Caracas:20250813T183000
DTSTAMP:20260424T020104
CREATED:20250812T154145Z
LAST-MODIFIED:20250812T154145Z
UID:48877-1755102600-1755109800@mujeranalitica.com
SUMMARY:Presentación del libro "Más alla del Caribe"
DESCRIPTION:Invitamos a la presentación del libro Más allá del Caribe de la historiadora Irene McKinstry Oria. La autora estará acompañada por la escritora y editora Gisela Cappellin.\n–\nMiércoles 13 de agosto en la Librería El Buscón. Patio Central de Trasnocho Cultural. Hora: 4:30 pm.\n–\nEl libro forma parte de la trilogía de la autora sobre el siglo XVII y XVIII junto con Una pica en el Caribe y En un lugar del Caribe. Resucita episodios gloriosos y poco conocidos de la etapa hispánica de nuestra historia; cómo fue la Expedición de Límites del norte de Suramérica (1754-1761) que exploró por primera vez el soberbio Orinoco.
URL:https://mujeranalitica.com/evento/presentacion-del-libro-mas-alla-del-caribe/
END:VEVENT
BEGIN:VEVENT
DTSTART;TZID=America/Caracas:20250813T170000
DTEND;TZID=America/Caracas:20250813T190000
DTSTAMP:20260424T020104
CREATED:20250810T221622Z
LAST-MODIFIED:20250810T221622Z
UID:48830-1755104400-1755111600@mujeranalitica.com
SUMMARY:Foro Chat: Mujeres en riesgo al seguir la manada
DESCRIPTION:📱Para participar\, ingresa a uno de los grupos del Foro Chat:\nGrupo 1\nhttps://chat.whatsapp.com/HJOYNnTEbyCEEm1XxOkpsa?mode=ac_t\nGrupo 2\nhttps://chat.whatsapp.com/D2BLSD06MhN6n3vRVka1vz?mode=ac_t\nGrupo 3\nhttps://chat.whatsapp.com/BauH7OXQcuVBhGUkJgm27V?mode=ac_t \nMujer y Ciudadanía\nFormando mujeres…construyendo ciudadanía
URL:https://mujeranalitica.com/evento/foro-chat-mujeres-en-riesgo-al-seguir-la-manada/
END:VEVENT
END:VCALENDAR