BEGIN:VCALENDAR
VERSION:2.0
PRODID:-//Mujer Analítica - ECPv6.15.11//NONSGML v1.0//EN
CALSCALE:GREGORIAN
METHOD:PUBLISH
X-WR-CALNAME:Mujer Analítica
X-ORIGINAL-URL:https://mujeranalitica.com
X-WR-CALDESC:Eventos para Mujer Analítica
REFRESH-INTERVAL;VALUE=DURATION:PT1H
X-Robots-Tag:noindex
X-PUBLISHED-TTL:PT1H
BEGIN:VTIMEZONE
TZID:America/Caracas
BEGIN:STANDARD
TZOFFSETFROM:-0400
TZOFFSETTO:-0400
TZNAME:-04
DTSTART:20240101T000000
END:STANDARD
END:VTIMEZONE
BEGIN:VEVENT
DTSTART;TZID=America/Caracas:20250818T233000
DTEND;TZID=America/Caracas:20250818T233000
DTSTAMP:20260424T033014
CREATED:20250723T214328Z
LAST-MODIFIED:20250723T214328Z
UID:41349-1755559800-1755559800@mujeranalitica.com
SUMMARY:Premio UNESCO
DESCRIPTION:
URL:https://mujeranalitica.com/evento/premio-unesco/
END:VEVENT
END:VCALENDAR