BEGIN:VCALENDAR
VERSION:2.0
PRODID:-//Mujer Analítica - ECPv6.15.11//NONSGML v1.0//EN
CALSCALE:GREGORIAN
METHOD:PUBLISH
X-ORIGINAL-URL:https://mujeranalitica.com
X-WR-CALDESC:Eventos para Mujer Analítica
REFRESH-INTERVAL;VALUE=DURATION:PT1H
X-Robots-Tag:noindex
X-PUBLISHED-TTL:PT1H
BEGIN:VTIMEZONE
TZID:America/Caracas
BEGIN:STANDARD
TZOFFSETFROM:-0400
TZOFFSETTO:-0400
TZNAME:-04
DTSTART:20240101T000000
END:STANDARD
END:VTIMEZONE
BEGIN:VEVENT
DTSTART;TZID=America/Caracas:20250819T190000
DTEND;TZID=America/Caracas:20250819T210000
DTSTAMP:20260424T033133
CREATED:20250816T155415Z
LAST-MODIFIED:20250816T155415Z
UID:48926-1755630000-1755637200@mujeranalitica.com
SUMMARY:Cine Foro
DESCRIPTION:Mujer y Ciudadanía estará presente este martes 19 de agosto en la presentación de la película EL CONSENTIMIENTO\, donde al finalizar la función podrás disfrutar de un conversatorio panelistas invitados; \nGabriel Dumont. Lic. en Artes\, mención Artes Cinematográficas\, Profesor\, Investigador y Crítico de cine. 🎤👥 \nMonica Ponce. Abogado especialista en derecho de la niñez y adolescencia\, miembros activa de Mujer y Ciudadanía. \nSinopsis:\nParís\, 1985. Vanessa tiene trece años cuando conoce a Gabriel Matzneff\, un hombre muy inteligente y manipulador. El reconocido escritor de cincuenta años seduce a la joven. La adolescente se convierte en la amante y musa de un hombre celebrado por el mundo cultural y político. Perdiéndose en la relación\, gradualmente comienza a darse cuenta de cuán destructiva y anormal es la situación\, hasta que finalmente ve a Gabriel Matzneff como el depredador que realmente es. Vanessa ahora tiene un largo viaje para liberarse de su influencia y sanar de su sufrimiento. \n📍Estamos ubicados en: Av. Luis Roche con 7ma transversal\, Altamira. Portón naranja. \nRef: 10 $\nPara reservas: 0424-1797744📱
URL:https://mujeranalitica.com/evento/cine-foro/
END:VEVENT
END:VCALENDAR