BEGIN:VCALENDAR
VERSION:2.0
PRODID:-//Mujer Analítica - ECPv6.15.11//NONSGML v1.0//EN
CALSCALE:GREGORIAN
METHOD:PUBLISH
X-ORIGINAL-URL:https://mujeranalitica.com
X-WR-CALDESC:Eventos para Mujer Analítica
REFRESH-INTERVAL;VALUE=DURATION:PT1H
X-Robots-Tag:noindex
X-PUBLISHED-TTL:PT1H
BEGIN:VTIMEZONE
TZID:America/Caracas
BEGIN:STANDARD
TZOFFSETFROM:-0400
TZOFFSETTO:-0400
TZNAME:-04
DTSTART:20240101T000000
END:STANDARD
END:VTIMEZONE
BEGIN:VEVENT
DTSTART;TZID=America/Caracas:20250820T170000
DTEND;TZID=America/Caracas:20250820T190000
DTSTAMP:20260424T033134
CREATED:20250820T140808Z
LAST-MODIFIED:20250820T140808Z
UID:48966-1755709200-1755716400@mujeranalitica.com
SUMMARY:Foro Chat: Feminismo positivo y redes sociales: Proyecto "Acciona"
DESCRIPTION:📆 Miércoles 20 de agosto 2025\n⏰ 5:00pm (Hora Venezuela)\n🔗 Para participar\, ingresa a uno de los grupos del Foro Chat:\nGrupo 1\nhttps://chat.whatsapp.com/HJOYNnTEbyCEEm1XxOkpsa?mode=ac_t\nGrupo 2\nhttps://chat.whatsapp.com/D2BLSD06MhN6n3vRVka1vz?mode=ac_t\nGrupo 3\nhttps://chat.whatsapp.com/BauH7OXQcuVBhGUkJgm27V?mode=ac_t \nMujer y Ciudadanía\nFormando mujeres…construyendo ciudadanía
URL:https://mujeranalitica.com/evento/foro-chat-feminismo-positivo-y-redes-sociales-proyecto-acciona/
END:VEVENT
END:VCALENDAR