BEGIN:VCALENDAR
VERSION:2.0
PRODID:-//Mujer Analítica - ECPv6.15.11//NONSGML v1.0//EN
CALSCALE:GREGORIAN
METHOD:PUBLISH
X-WR-CALNAME:Mujer Analítica
X-ORIGINAL-URL:https://mujeranalitica.com
X-WR-CALDESC:Eventos para Mujer Analítica
REFRESH-INTERVAL;VALUE=DURATION:PT1H
X-Robots-Tag:noindex
X-PUBLISHED-TTL:PT1H
BEGIN:VTIMEZONE
TZID:America/Caracas
BEGIN:STANDARD
TZOFFSETFROM:-0400
TZOFFSETTO:-0400
TZNAME:-04
DTSTART:20240101T000000
END:STANDARD
END:VTIMEZONE
BEGIN:VEVENT
DTSTART;TZID=America/Caracas:20251001T080000
DTEND;TZID=America/Caracas:20251031T170000
DTSTAMP:20260423T223229
CREATED:20251024T122652Z
LAST-MODIFIED:20251024T122652Z
UID:49855-1759305600-1761930000@mujeranalitica.com
SUMMARY:Promoción en estudios preventivos
DESCRIPTION:Mes Rosa: Un Llamado a la Prevención del Cáncer de Mama \nOctubre se tiñe de rosa para recordarnos la importancia de la prevención del cáncer de mama\, una enfermedad que afecta a millones de mujeres en todo el mundo cada año. En este contexto\, la Organización Civil Mujer y Ciudadanía se une a la loable labor del Grupo Médico Santa Paula (GMSP)\, que participa activamente en la campaña de concientización\, reafirmando su compromiso con la salud femenina y el diagnóstico oportuno.
URL:https://mujeranalitica.com/evento/promocion-en-estudios-preventivos/
END:VEVENT
BEGIN:VEVENT
DTSTART;TZID=America/Caracas:20251002T093000
DTEND;TZID=America/Caracas:20251002T120000
DTSTAMP:20260423T223229
CREATED:20250927T231739Z
LAST-MODIFIED:20250927T231739Z
UID:49336-1759397400-1759406400@mujeranalitica.com
SUMMARY:Asamblea Ordinaria del Centro de Estudios de la Mujer
DESCRIPTION:
URL:https://mujeranalitica.com/evento/asamblea-ordinaria-del-centro-de-estudios-de-la-mujer/
END:VEVENT
END:VCALENDAR