BEGIN:VCALENDAR
VERSION:2.0
PRODID:-//Mujer Analítica - ECPv6.15.11//NONSGML v1.0//EN
CALSCALE:GREGORIAN
METHOD:PUBLISH
X-ORIGINAL-URL:https://mujeranalitica.com
X-WR-CALDESC:Eventos para Mujer Analítica
REFRESH-INTERVAL;VALUE=DURATION:PT1H
X-Robots-Tag:noindex
X-PUBLISHED-TTL:PT1H
BEGIN:VTIMEZONE
TZID:America/Caracas
BEGIN:STANDARD
TZOFFSETFROM:-0400
TZOFFSETTO:-0400
TZNAME:-04
DTSTART:20240101T000000
END:STANDARD
END:VTIMEZONE
BEGIN:VEVENT
DTSTART;TZID=America/Caracas:20251210T170000
DTEND;TZID=America/Caracas:20251210T190000
DTSTAMP:20260423T190937
CREATED:20251208T155950Z
LAST-MODIFIED:20251209T124935Z
UID:50390-1765386000-1765393200@mujeranalitica.com
SUMMARY:Foro Chat: Taller de Escritura Creativa
DESCRIPTION:📱🖥️ Para participar\, únete a uno de los grupos de whatsapp:\nhttps://chat.whatsapp.com/D2BLSD06MhN6n3vRVka1vz?mode=hqrt3 \nhttps://chat.whatsapp.com/BauH7OXQcuVBhGUkJgm27V?mode=hqrt3 \nhttps://chat.whatsapp.com/HJOYNnTEbyCEEm1XxOkpsa?mode=hqrt3 \nMujer y Ciudadanía\nFormando mujeres…construyendo ciudadanía
URL:https://mujeranalitica.com/evento/foro-chat-taller-de-escritura-creativa/
END:VEVENT
END:VCALENDAR