BEGIN:VCALENDAR
VERSION:2.0
PRODID:-//Mujer Analítica - ECPv6.15.11//NONSGML v1.0//EN
CALSCALE:GREGORIAN
METHOD:PUBLISH
X-WR-CALNAME:Mujer Analítica
X-ORIGINAL-URL:https://mujeranalitica.com
X-WR-CALDESC:Eventos para Mujer Analítica
REFRESH-INTERVAL;VALUE=DURATION:PT1H
X-Robots-Tag:noindex
X-PUBLISHED-TTL:PT1H
BEGIN:VTIMEZONE
TZID:America/Caracas
BEGIN:STANDARD
TZOFFSETFROM:-0400
TZOFFSETTO:-0400
TZNAME:-04
DTSTART:20250101T000000
END:STANDARD
END:VTIMEZONE
BEGIN:VEVENT
DTSTART;TZID=America/Caracas:20260128T170000
DTEND;TZID=America/Caracas:20260128T190000
DTSTAMP:20260423T155243
CREATED:20260126T201135Z
LAST-MODIFIED:20260126T201135Z
UID:50879-1769619600-1769626800@mujeranalitica.com
SUMMARY:Foro Chat: Viviendo en el Ecosistema Digital: IA y Ciberseguridad
DESCRIPTION:📆 Miércoles 28 de enero 2026\n⏰⏱️ 5:00pm\, hora Venezuela \n📱🖥️ Para participar\, únete a uno de los grupos de whatsapp:\nhttps://chat.whatsapp.com/D2BLSD06MhN6n3vRVka1vz?mode=hqrt3 \nhttps://chat.whatsapp.com/BauH7OXQcuVBhGUkJgm27V?mode=hqrt3 \nhttps://chat.whatsapp.com/HJOYNnTEbyCEEm1XxOkpsa?mode=hqrt3 \nMujer y Ciudadanía\nFormando mujeres…construyendo ciudadanía \n@mujeranalitica\n@mujeryciudadania\n@mujerescambiandoalmundo\n@espaciocivilac\nwww.mujeranalitica.com
URL:https://mujeranalitica.com/evento/foro-chat-viviendo-en-el-ecosistema-digital-ia-y-ciberseguridad/
ATTACH;FMTTYPE=image/png:https://mujeranalitica.com/wp-content/uploads/2026/01/Plantilla-Mujer-Analitica-18.png
END:VEVENT
END:VCALENDAR