BEGIN:VCALENDAR
VERSION:2.0
PRODID:-//Mujer Analítica - ECPv6.15.11//NONSGML v1.0//EN
CALSCALE:GREGORIAN
METHOD:PUBLISH
X-WR-CALNAME:Mujer Analítica
X-ORIGINAL-URL:https://mujeranalitica.com
X-WR-CALDESC:Eventos para Mujer Analítica
REFRESH-INTERVAL;VALUE=DURATION:PT1H
X-Robots-Tag:noindex
X-PUBLISHED-TTL:PT1H
BEGIN:VTIMEZONE
TZID:America/Caracas
BEGIN:STANDARD
TZOFFSETFROM:-0400
TZOFFSETTO:-0400
TZNAME:-04
DTSTART:20250101T000000
END:STANDARD
END:VTIMEZONE
BEGIN:VEVENT
DTSTART;TZID=America/Caracas:20260211T170000
DTEND;TZID=America/Caracas:20260211T190000
DTSTAMP:20260423T155159
CREATED:20260210T195737Z
LAST-MODIFIED:20260210T195737Z
UID:51161-1770829200-1770836400@mujeranalitica.com
SUMMARY:Foro Chat: Mujeres en la Era Digital
DESCRIPTION:🗓 Fecha : Miércoles 11 de febrero 2026\n⏰ Hor a: 5:00pm (Hora Venezuela)\n🔗 Únete aquí al grupo de whatasapp : https://goo.su/IUt1PjZ \n¡No te quedes atrás\, el cambio empieza con un clic! ✨ \nMujer y Ciudadanía\nFormando mujeres…construyendo ciudadanía\nwww.mujeranalitica.com\n@mujeryciudadania\n@mujeranalitica\n@mujerescambiandoalmundo\n@espaciocivilac
URL:https://mujeranalitica.com/evento/foro-chat-mujeres-en-la-era-digital/
END:VEVENT
END:VCALENDAR