BEGIN:VCALENDAR
VERSION:2.0
PRODID:-//Mujer Analítica - ECPv6.15.11//NONSGML v1.0//EN
CALSCALE:GREGORIAN
METHOD:PUBLISH
X-ORIGINAL-URL:https://mujeranalitica.com
X-WR-CALDESC:Eventos para Mujer Analítica
REFRESH-INTERVAL;VALUE=DURATION:PT1H
X-Robots-Tag:noindex
X-PUBLISHED-TTL:PT1H
BEGIN:VTIMEZONE
TZID:America/Caracas
BEGIN:STANDARD
TZOFFSETFROM:-0400
TZOFFSETTO:-0400
TZNAME:-04
DTSTART:20250101T000000
END:STANDARD
END:VTIMEZONE
BEGIN:VEVENT
DTSTART;TZID=America/Caracas:20260215T080000
DTEND;TZID=America/Caracas:20260219T170000
DTSTAMP:20260423T155406
CREATED:20260203T145822Z
LAST-MODIFIED:20260203T145822Z
UID:51069-1771142400-1771520400@mujeranalitica.com
SUMMARY:5 Días para activar tu Amor Propio
DESCRIPTION:#LOVINGMeReto 5 días de AMOR PROPIO 💕💝❤️ mi regalo en el mes del AMOR para ti. 💜💕 \n1. Entra al Canal de #Instagram de @pormistacones HOY https://www.instagram.com/channel/AbayW35-ZVQQc4fm/?igsh=MTlxdWJkZXN3YXZ5MA== \n2. Asegúrate de darle al botón: Unirme al canal. \n3. Recibirás cada día 1 ejercicio de amor propio gratis \n4. Comenzamos el 15 de Febrero. \n5. Compártelo a todas tus amigas ¡Es un regalo! \nTe esperamos ☺️💖 \nGracias a nuestras aliados\n@babariavenezuela\n@alimentosbosquedorado\n@studio.motivate\n@tiendasauroravzla
URL:https://mujeranalitica.com/evento/5-dias-para-activar-tu-amor-propio/
END:VEVENT
END:VCALENDAR