BEGIN:VCALENDAR
VERSION:2.0
PRODID:-//Mujer Analítica - ECPv6.15.11//NONSGML v1.0//EN
CALSCALE:GREGORIAN
METHOD:PUBLISH
X-ORIGINAL-URL:https://mujeranalitica.com
X-WR-CALDESC:Eventos para Mujer Analítica
REFRESH-INTERVAL;VALUE=DURATION:PT1H
X-Robots-Tag:noindex
X-PUBLISHED-TTL:PT1H
BEGIN:VTIMEZONE
TZID:America/Caracas
BEGIN:STANDARD
TZOFFSETFROM:-0400
TZOFFSETTO:-0400
TZNAME:-04
DTSTART:20250101T000000
END:STANDARD
END:VTIMEZONE
BEGIN:VEVENT
DTSTART;TZID=America/Caracas:20260225T170000
DTEND;TZID=America/Caracas:20260225T190000
DTSTAMP:20260423T142016
CREATED:20260224T204451Z
LAST-MODIFIED:20260224T204451Z
UID:51269-1772038800-1772046000@mujeranalitica.com
SUMMARY:Foro Chat: La diáspora venezolana: ¿Se plantea un regreso?
DESCRIPTION:📆 Miércoles 25 de febrero a las 5:00pm (Hora Venezuela \nPara participar\, ingrese a uno de los grupos del Foro Chat:\nhttps://chat.whatsapp.com/D2BLSD06MhN6n3vRVka1vz?mode=hqrt3
URL:https://mujeranalitica.com/evento/foro-chat-la-diaspora-venezolana-se-plantea-un-regreso/
END:VEVENT
END:VCALENDAR