BEGIN:VCALENDAR
VERSION:2.0
PRODID:-//Mujer Analítica - ECPv6.15.11//NONSGML v1.0//EN
CALSCALE:GREGORIAN
METHOD:PUBLISH
X-ORIGINAL-URL:https://mujeranalitica.com
X-WR-CALDESC:Eventos para Mujer Analítica
REFRESH-INTERVAL;VALUE=DURATION:PT1H
X-Robots-Tag:noindex
X-PUBLISHED-TTL:PT1H
BEGIN:VTIMEZONE
TZID:America/Caracas
BEGIN:STANDARD
TZOFFSETFROM:-0400
TZOFFSETTO:-0400
TZNAME:-04
DTSTART:20250101T000000
END:STANDARD
END:VTIMEZONE
BEGIN:VEVENT
DTSTART;TZID=America/Caracas:20260304T140000
DTEND;TZID=America/Caracas:20260304T160000
DTSTAMP:20260423T155334
CREATED:20260304T190905Z
LAST-MODIFIED:20260304T190905Z
UID:51372-1772632800-1772640000@mujeranalitica.com
SUMMARY:Mujeres Compositoras
DESCRIPTION:
URL:https://mujeranalitica.com/evento/mujeres-compositoras-2/
END:VEVENT
BEGIN:VEVENT
DTSTART;TZID=America/Caracas:20260304T140000
DTEND;TZID=America/Caracas:20260304T170000
DTSTAMP:20260423T155334
CREATED:20260227T203207Z
LAST-MODIFIED:20260227T203207Z
UID:51301-1772632800-1772643600@mujeranalitica.com
SUMMARY:Mujeres Compositoras
DESCRIPTION:
URL:https://mujeranalitica.com/evento/mujeres-compositoras/
END:VEVENT
BEGIN:VEVENT
DTSTART;TZID=America/Caracas:20260304T160000
DTEND;TZID=America/Caracas:20260304T180000
DTSTAMP:20260423T155334
CREATED:20260304T185830Z
LAST-MODIFIED:20260304T185830Z
UID:51360-1772640000-1772647200@mujeranalitica.com
SUMMARY:Conversatorio: Los disidentes y la transformación del país
DESCRIPTION:Evento gratuito: https://coficinas.com/disidentes/
URL:https://mujeranalitica.com/evento/conversatorio-los-disidentes-y-la-transformacion-del-pais/
END:VEVENT
BEGIN:VEVENT
DTSTART;TZID=America/Caracas:20260304T170000
DTEND;TZID=America/Caracas:20260304T190000
DTSTAMP:20260423T155334
CREATED:20260304T183750Z
LAST-MODIFIED:20260304T183750Z
UID:51351-1772643600-1772650800@mujeranalitica.com
SUMMARY:Foro Chat: La importancia de proteger al ciudadano a través de la información
DESCRIPTION:Para participar\, ingrese a uno de los grupos del Foro Chat:\nhttps://chat.whatsapp.com/D2BLSD06MhN6n3vRVka1vz?mode=hqrt3\n\n \n\nhttps://chat.whatsapp.com/BauH7OXQcuVBhGUkJgm27V?mode=hqrt3\n\n \n\nhttps://chat.whatsapp.com/HJOYNnTEbyCEEm1XxOkpsa?mode=hqrt3
URL:https://mujeranalitica.com/evento/foro-chat-la-importancia-de-proteger-al-ciudadano-a-traves-de-la-informacion/
END:VEVENT
BEGIN:VEVENT
DTSTART;TZID=America/Caracas:20260304T200000
DTEND;TZID=America/Caracas:20260304T210000
DTSTAMP:20260423T155334
CREATED:20260304T184321Z
LAST-MODIFIED:20260304T185005Z
UID:51353-1772654400-1772658000@mujeranalitica.com
SUMMARY:Programa televisivo "La Hora Clave por Globovisión
DESCRIPTION:La empresaria venezolana 𝗭𝗼𝗻𝗶𝗮 𝗕𝗲𝘇𝗮𝗿𝗮 𝗱𝗲 𝗔𝘁𝗲𝗻𝗰𝗶𝗼\, Premio Mujer Analítica 2025\, encargada de impartir la clase inaugural de la XII cohorte del Diplomado Mujeres como Agentes de Cambio y la arquitecta 𝗔𝗶𝘅𝗮 𝗔𝗿𝗺𝗮𝘀\, presidenta de Mujer y Ciudadanía estaràn hoy miércoles 4 de marzo en Globovisión\, programa «La Hora Clave» \, conducido por los reconocidos periodistas Macky Arenas y Manuel Felipe Sierra\, 𝗰𝗼𝗻𝘃𝗲𝗿𝘀𝗮𝗻𝗱𝗼 𝘀𝗼𝗯𝗿𝗲 𝗲𝗹 𝗗í𝗮 𝗜𝗻𝘁𝗲𝗿𝗻𝗮𝗰𝗶𝗼𝗻𝗮𝗹 𝗱𝗲 𝗹𝗮 𝗠𝘂𝗷𝗲𝗿.
URL:https://mujeranalitica.com/evento/programa-televisivo-la-hora-clave-por-globovision/
END:VEVENT
END:VCALENDAR