BEGIN:VCALENDAR
VERSION:2.0
PRODID:-//Mujer Analítica - ECPv6.15.11//NONSGML v1.0//EN
CALSCALE:GREGORIAN
METHOD:PUBLISH
X-WR-CALNAME:Mujer Analítica
X-ORIGINAL-URL:https://mujeranalitica.com
X-WR-CALDESC:Eventos para Mujer Analítica
REFRESH-INTERVAL;VALUE=DURATION:PT1H
X-Robots-Tag:noindex
X-PUBLISHED-TTL:PT1H
BEGIN:VTIMEZONE
TZID:America/Caracas
BEGIN:STANDARD
TZOFFSETFROM:-0400
TZOFFSETTO:-0400
TZNAME:-04
DTSTART:20250101T000000
END:STANDARD
END:VTIMEZONE
BEGIN:VEVENT
DTSTART;TZID=America/Caracas:20260311T170000
DTEND;TZID=America/Caracas:20260311T190000
DTSTAMP:20260423T141026
CREATED:20260311T164833Z
LAST-MODIFIED:20260311T164833Z
UID:51443-1773248400-1773255600@mujeranalitica.com
SUMMARY:Foro Chat: El ABC de los Derechos de la Mujer en Venezuela
DESCRIPTION:📆 Miércoles 10 marzo a las 5:00pm (Hora Venezuela \nPara participar\, ingrese a uno de los grupos del Foro Chat:\nhttps://chat.whatsapp.com/D2BLSD06MhN6n3vRVka1vz?mode=hqrt3 \nhttps://chat.whatsapp.com/BauH7OXQcuVBhGUkJgm27V?mode=hqrt3 \nhttps://chat.whatsapp.com/HJOYNnTEbyCEEm1XxOkpsa?mode=hqrt3 \nMujer y Ciudadanía\nFormando mujeres…construyendo ciudadanía
URL:https://mujeranalitica.com/evento/foro-chat-el-abc-de-los-derechos-de-la-mujer-en-venezuela/
END:VEVENT
END:VCALENDAR