BEGIN:VCALENDAR
VERSION:2.0
PRODID:-//Mujer Analítica - ECPv6.15.11//NONSGML v1.0//EN
CALSCALE:GREGORIAN
METHOD:PUBLISH
X-WR-CALNAME:Mujer Analítica
X-ORIGINAL-URL:https://mujeranalitica.com
X-WR-CALDESC:Eventos para Mujer Analítica
REFRESH-INTERVAL;VALUE=DURATION:PT1H
X-Robots-Tag:noindex
X-PUBLISHED-TTL:PT1H
BEGIN:VTIMEZONE
TZID:America/Caracas
BEGIN:STANDARD
TZOFFSETFROM:-0400
TZOFFSETTO:-0400
TZNAME:-04
DTSTART:20250101T000000
END:STANDARD
END:VTIMEZONE
BEGIN:VEVENT
DTSTART;TZID=America/Caracas:20260325T170000
DTEND;TZID=America/Caracas:20260325T190000
DTSTAMP:20260423T171943
CREATED:20260324T200305Z
LAST-MODIFIED:20260324T200305Z
UID:51564-1774458000-1774465200@mujeranalitica.com
SUMMARY:Foro Chat: Igualdad de Género desde la Perspeciva Psicosocial
DESCRIPTION:
URL:https://mujeranalitica.com/evento/foro-chat-igualdad-de-genero-desde-la-perspeciva-psicosocial/
END:VEVENT
END:VCALENDAR