BEGIN:VCALENDAR
VERSION:2.0
PRODID:-//Mujer Analítica - ECPv6.15.11//NONSGML v1.0//EN
CALSCALE:GREGORIAN
METHOD:PUBLISH
X-ORIGINAL-URL:https://mujeranalitica.com
X-WR-CALDESC:Eventos para Mujer Analítica
REFRESH-INTERVAL;VALUE=DURATION:PT1H
X-Robots-Tag:noindex
X-PUBLISHED-TTL:PT1H
BEGIN:VTIMEZONE
TZID:America/Caracas
BEGIN:STANDARD
TZOFFSETFROM:-0400
TZOFFSETTO:-0400
TZNAME:-04
DTSTART:20230101T000000
END:STANDARD
END:VTIMEZONE
BEGIN:VEVENT
DTSTART;TZID=America/Caracas:20241127T190000
DTEND;TZID=America/Caracas:20241127T200000
DTSTAMP:20260424T120826
CREATED:20241125T122709Z
LAST-MODIFIED:20241125T122821Z
UID:38064-1732734000-1732737600@mujeranalitica.com
SUMMARY:Foro "Cuidados digitales: Prevención y mitigación de la Violencia Digital Basada en Género"
DESCRIPTION:Todas estamos expuestas a que nuestra voz sea clonada o nuestra identidad sea suplantada\, y estas situaciones están muy vinculadas a nuevas formas de phishing y deepfakes que hay en la red. ¡Afortunadamente\, hoy día contamos con herramientas para detectarlas!. \nEn el marco de los #16DiasPorActivismo en contra de la violencia basada en género\, ¡Abrimos nuevos talleres sobre prevención de violencia digital\, en los que aprenderás a protegerte y a navegar de manera segura en el mundo digital. \nDescubrirás cómo la inteligencia artificial está cambiando el panorama de la ciberdelincuencia y cómo puedes estar un paso adelante. \nInscríbete AQUI:  https://tally.so/r/312LMb y empodérate con el conocimiento necesario para combatir la violencia digital. \n¡El futuro es más seguro cuando estamos informadas!.
URL:https://mujeranalitica.com/evento/foro-cuidados-digitales-prevencion-y-mitigacion-de-la-violencia-digital-basada-en-genero/
END:VEVENT
BEGIN:VEVENT
DTSTART;TZID=America/Caracas:20241127T170000
DTEND;TZID=America/Caracas:20241127T190000
DTSTAMP:20260424T120826
CREATED:20241125T204221Z
LAST-MODIFIED:20241125T204221Z
UID:38083-1732726800-1732734000@mujeranalitica.com
SUMMARY:Foro Chat: El Sentido de la Vida
DESCRIPTION:
URL:https://mujeranalitica.com/evento/foro-chat-el-sentido-de-la-vida/
END:VEVENT
BEGIN:VEVENT
DTSTART;TZID=America/Caracas:20241126T100000
DTEND;TZID=America/Caracas:20241126T140000
DTSTAMP:20260424T120826
CREATED:20241124T223140Z
LAST-MODIFIED:20241124T223140Z
UID:38039-1732615200-1732629600@mujeranalitica.com
SUMMARY:Jornada por el Día Internacional para la eliminación de la violencia hacia las mujeres
DESCRIPTION:
URL:https://mujeranalitica.com/evento/jornada-por-el-dia-internacional-para-la-eliminacion-de-la-violencia-hacia-las-mujeres/
END:VEVENT
BEGIN:VEVENT
DTSTART;TZID=America/Caracas:20241126T100000
DTEND;TZID=America/Caracas:20241126T120000
DTSTAMP:20260424T120826
CREATED:20241124T223433Z
LAST-MODIFIED:20241124T223433Z
UID:38042-1732615200-1732622400@mujeranalitica.com
SUMMARY:Entrega de Premio "Mujer Analítica"
DESCRIPTION:
URL:https://mujeranalitica.com/evento/entrega-de-premio-mujer-analitica/
END:VEVENT
BEGIN:VEVENT
DTSTART;TZID=America/Caracas:20241125T133000
DTEND;TZID=America/Caracas:20241125T153000
DTSTAMP:20260424T120826
CREATED:20241124T222900Z
LAST-MODIFIED:20241124T222900Z
UID:38036-1732541400-1732548600@mujeranalitica.com
SUMMARY:Sola: Espectáculo Teatral
DESCRIPTION:
URL:https://mujeranalitica.com/evento/sola-espectaculo-teatral/
END:VEVENT
BEGIN:VEVENT
DTSTART;TZID=America/Caracas:20241125T080000
DTEND;TZID=America/Caracas:20241126T170000
DTSTAMP:20260424T120826
CREATED:20241108T151920Z
LAST-MODIFIED:20241108T151920Z
UID:37659-1732521600-1732640400@mujeranalitica.com
SUMMARY:VI Foro Regional "Mujeres de las Américas"
DESCRIPTION:
URL:https://mujeranalitica.com/evento/vi-foro-regional-mujeres-de-las-americas/
END:VEVENT
BEGIN:VEVENT
DTSTART;TZID=America/Caracas:20241124T180000
DTEND;TZID=America/Caracas:20241225T210000
DTSTAMP:20260424T120826
CREATED:20241111T194349Z
LAST-MODIFIED:20241111T194349Z
UID:37741-1732471200-1735160400@mujeranalitica.com
SUMMARY:VI Foro Regional Mujeres de las Américas
DESCRIPTION:Invitación al VI Foro Regional Mujeres de las Américas \nEl Centro de Liderazgo para Mujeres de las Américas\, la Comisión de Mujeres de REDLAD y la Asociación Civil Mujer y Ciudadanía te invitan al *VI Foro Regional Mujeres de las Américas: Hacia una democracia y participación paritaria de las mujeres para lograr la igualdad de género en las Américas. \n🗓️ Fechas: Lunes 25 y martes 26 de noviembre de 2024\n🕔 Hora: 5:00 pm a 8:00 pm (Hora Perú) 6:00 pm a 9:00 pm (Hora Venezuela)\n📍 Modalidad: Evento virtual y gratuito \nAl final de la jornada se emitirá La Declaración del VI Foro Regional de las Américas. \nInscripción: Llena el formulario aquí: https://forms.gle/LjJY4q1LgidMmXok8 \nPara más información\, escribe a: clmamericas.peru@gmail.com o síguenos en nuestras redes sociales:\n@CLAMericas\n@Mujeryciudadania\n@Redlad\nwww.mujeranalitica.com
URL:https://mujeranalitica.com/evento/vi-foro-regional-mujeres-de-las-americas-2/
END:VEVENT
BEGIN:VEVENT
DTSTART;TZID=America/Caracas:20241124T093000
DTEND;TZID=America/Caracas:20241124T140000
DTSTAMP:20260424T120826
CREATED:20241123T213045Z
LAST-MODIFIED:20241123T213045Z
UID:38006-1732440600-1732456800@mujeranalitica.com
SUMMARY:Masterclass de flexibilidad
DESCRIPTION:¡Conoce los beneficios que la flexibilidad trae a tu vida! \nLa experiencia y cercanía de @leidy.flex llega para rejuvenecerte y hacer mejor tu vida a través de la flexibilidad este domingo 24 de noviembre con la mejor MASTERCLASS de flexibilidad \n📆 24/11/24\n🕑 9:30 AM\n📍 Centro Traki La Trinidad (La Boyera\, Caracas)\n💪 Con activación de @focusfit.ve\n🎟️ Valor: $10 \n🎫 Tickets a la venta en www.totalpagos.com y el link de la biografía \n¡Te esperamos para que aprendas a sacar el MÁXIMO POTENCIAL de tu cuerpo!
URL:https://mujeranalitica.com/evento/masterclass-de-flexibilidad/
END:VEVENT
BEGIN:VEVENT
DTSTART;TZID=America/Caracas:20241124T080000
DTEND;TZID=America/Caracas:20241124T170000
DTSTAMP:20260424T120826
CREATED:20241124T131133Z
LAST-MODIFIED:20241124T131133Z
UID:38017-1732435200-1732467600@mujeranalitica.com
SUMMARY:Muévete contra la violencia hacia la mujer
DESCRIPTION:Desde la Unión Europea en Venezuela\, junto a Mujer y Ciudadanía y 12 organizaciones de la sociedad Civil\, le invitamos a acompañarnos este domingo\, 24 de noviembre de 2024 en la actividad deportivo-familiar “Muévete contra la violencia hacia la mujer”\, que tendrá lugar de 8:30 am a 1:00 pm en la Universidad Central de Venezuela (en Plaza Cubierta\, junto al Aula Magna). \nAquí le compartimos algunas recomendaciones para disfrutar de esta actividad: \nHabrá puntos de hidratación\, por lo que puede traer su termo de agua.\nRecuerde traer protector solar.\nNo olvide su mat de yoga si desea participar en esta actividad.\nComo parte de la actividad habrá diferentes premios y un sorteo.\nHabrá estacionamiento disponible en la Universidad en la Facultad de Humanidades \n¡Le esperamos con una franela o un accesorio naranja o púrpura!
URL:https://mujeranalitica.com/evento/muevete-contra-la-violencia-hacia-la-mujer/
END:VEVENT
BEGIN:VEVENT
DTSTART;TZID=America/Caracas:20241122T213000
DTEND;TZID=America/Caracas:20241122T233000
DTSTAMP:20260424T120827
CREATED:20241118T123945Z
LAST-MODIFIED:20241118T123945Z
UID:37936-1732311000-1732318200@mujeranalitica.com
SUMMARY:El Aplauso va por dentro
DESCRIPTION:
URL:https://mujeranalitica.com/evento/el-aplauso-va-por-dentro/
END:VEVENT
BEGIN:VEVENT
DTSTART;TZID=America/Caracas:20241120T170000
DTEND;TZID=America/Caracas:20241120T190000
DTSTAMP:20260424T120827
CREATED:20241118T203420Z
LAST-MODIFIED:20241118T203420Z
UID:37953-1732122000-1732129200@mujeranalitica.com
SUMMARY:Foro Chat:  Enfrentando la Violencia contra la Mujer
DESCRIPTION:
URL:https://mujeranalitica.com/evento/foro-chat-enfrentando-la-violencia-contra-la-mujer/
END:VEVENT
BEGIN:VEVENT
DTSTART;TZID=America/Caracas:20241114T100000
DTEND;TZID=America/Caracas:20241114T120000
DTSTAMP:20260424T120827
CREATED:20241104T193918Z
LAST-MODIFIED:20241104T193918Z
UID:37536-1731578400-1731585600@mujeranalitica.com
SUMMARY:Charla sobre la Prevención del Cáncer de Mama
DESCRIPTION: 
URL:https://mujeranalitica.com/evento/charla-sobre-la-prevencion-del-cancer-de-mama/
END:VEVENT
BEGIN:VEVENT
DTSTART;TZID=America/Caracas:20241108T080000
DTEND;TZID=America/Caracas:20241110T233000
DTSTAMP:20260424T120827
CREATED:20241026T143323Z
LAST-MODIFIED:20241026T143323Z
UID:37372-1731052800-1731281400@mujeranalitica.com
SUMMARY:XIX Retiro Mujeres Emaus Manzanares
DESCRIPTION:
URL:https://mujeranalitica.com/evento/xix-retiro-mujeres-emaus-manzanares/
END:VEVENT
BEGIN:VEVENT
DTSTART;TZID=America/Caracas:20241107T080000
DTEND;TZID=America/Caracas:20241107T170000
DTSTAMP:20260424T120827
CREATED:20241106T192025Z
LAST-MODIFIED:20241106T192025Z
UID:37623-1730966400-1730998800@mujeranalitica.com
SUMMARY:Foro  "La Gobernanza de internet de América Latina y el Caribe 2024
DESCRIPTION:Acompáñanos al lanzamiento de nuestra nueva publicación\nEn América Latina\, las mujeres defensoras del medioambiente lideran la lucha contra la crisis climática. Lamentablemente\, por ello reciben gran cantidad de violencia\, dentro y fuera de internet. \nCon el objetivo de comprender mejor las violencias de género en línea que enfrentan las mujeres defensoras del medio ambiente\, y el impacto en su trabajo y sus vidas personales\, Fundación Multitudes —con apoyo de la Fundación Heinrich Böll— realizó una investigación exploratoria pionera en Colombia\, Perú y Ecuador. Los resultados de dicha investigación están consignados en el reporte Online Gender-Base Violence against Women* Environmental and Human Rights Defenders in Latin América. \nEl reporte será presentado el próximo jueves 7 de noviembre a las 4PM (GMT -3) en “Humillación\, desprestigio y silenciamiento – la desinformación como violencia de género: perspectivas y estrategias de abordaje desde América Latina»\, un panel organizado por Fundación Multitudes y que es parte de la programación de la 17º edición del Foro de Gobernanza de Internet de América Latina y el Caribe (LACIGF). \nEl panel contará con la participación de Mariana Valente (InternetLab/ University of St.Gallen)\, Paula Martins (APC) y Lucía León (Hiperderecho). Por Fundación Multitudes presentará Laura Martínez. \n¡Acompáñanos! \nJueves\, 7 de noviembre\n4PM (GMT-3)\nEnlace en Youtube: https://www.youtube.com/watch?v=InfAh1GQO2E
URL:https://mujeranalitica.com/evento/foro-la-gobernanza-de-internet-de-america-latina-y-el-caribe-2024/
END:VEVENT
BEGIN:VEVENT
DTSTART;TZID=America/Caracas:20241106T170000
DTEND;TZID=America/Caracas:20241106T190000
DTSTAMP:20260424T120827
CREATED:20241104T200403Z
LAST-MODIFIED:20241104T200403Z
UID:37545-1730912400-1730919600@mujeranalitica.com
SUMMARY:Foro Chat: Salud Corporativa
DESCRIPTION:Participa uniéndote al grupo de whatasapp:\nhttps://chat.whatsapp.com/BauH7OXQcuVBhGUkJgm27V \nMujer y Ciudadanía\nFormando mujeres…construyendo ciudadanía
URL:https://mujeranalitica.com/evento/foro-chat-salud-corporativa/
END:VEVENT
BEGIN:VEVENT
DTSTART;TZID=America/Caracas:20241030T170000
DTEND;TZID=America/Caracas:20241030T190000
DTSTAMP:20260424T120827
CREATED:20241029T150434Z
LAST-MODIFIED:20241029T150434Z
UID:37404-1730307600-1730314800@mujeranalitica.com
SUMMARY:Foro Chat: El Poder del Orden
DESCRIPTION:Para participar\, únete a nuestro grupo de whatsapp:\nhttps://chat.whatsapp.com/D2BLSD06MhN6n3vRVka1vz
URL:https://mujeranalitica.com/evento/foro-chat-el-poder-del-orden/
END:VEVENT
BEGIN:VEVENT
DTSTART;TZID=America/Caracas:20241030T080000
DTEND;TZID=America/Caracas:20241030T170000
DTSTAMP:20260424T120827
CREATED:20240930T190055Z
LAST-MODIFIED:20240930T190055Z
UID:36766-1730275200-1730307600@mujeranalitica.com
SUMMARY:Curso de Ampliación: Mujer\, Economía y Sociedad
DESCRIPTION:
URL:https://mujeranalitica.com/evento/curso-de-ampliacion-mujer-economia-y-sociedad/
END:VEVENT
BEGIN:VEVENT
DTSTART;TZID=America/Caracas:20241028T100000
DTEND;TZID=America/Caracas:20241029T120000
DTSTAMP:20260424T120827
CREATED:20241026T141205Z
LAST-MODIFIED:20241026T141205Z
UID:37363-1730109600-1730203200@mujeranalitica.com
SUMMARY:I Conferencia Hemisférica "Rumbo a los 25 años de la Resolución del Consejo de Seguridad de las Naciones Unidas: Mujer\, Paz y Seguridad".
DESCRIPTION:El Comité de Coordinación Académica de la RED de Egresadas WJPC así como las Universidad Tadeo (Colombia) y la Universidad Metropolitana (Paraguay)\, se permiten extenderles una atenta invitación para participar de la I Conferencia Hemisférica «Rumbo a los 25 años de la Resolución del Consejo de Seguridad de las Naciones Unidas: Mujer\, Paz y Seguridad». El evento reúne a 18 mujeres profesionales de 11 países de América Latina\, unidas para presentar los avances y retos de la región.\nDETALLES\nFecha: 28 y 29 de octubre del 2024\nHora: 10:00 horas (Washington DC)\n0800 horas de Centroamérica y México\n0900 horas (Perú. Colombia y Ecuador)\n1100 Horas MERCOSUR\nEnlace zoom de conexión:\nhttps://us06web.zoom.us/j/89116326740\nEl formulario de registro circulará durante el desarrollo de la conferencia. Se extenderá constancia de participación.
URL:https://mujeranalitica.com/evento/i-conferencia-hemisferica-rumbo-a-los-25-anos-de-la-resolucion-del-consejo-de-seguridad-de-las-naciones-unidas-mujer-paz-y-seguridad/
LOCATION:Encuentro Virtual
END:VEVENT
BEGIN:VEVENT
DTSTART;TZID=America/Caracas:20241028T090000
DTEND;TZID=America/Caracas:20241028T160000
DTSTAMP:20260424T120827
CREATED:20241026T140355Z
LAST-MODIFIED:20241026T140355Z
UID:37361-1730106000-1730131200@mujeranalitica.com
SUMMARY:Encuentro de Mujeres Indígenas por la Biodiversidad
DESCRIPTION:El objetivo de este evento es resaltar y dar a conocer los procesos del empoderamiento de la mujer indígena en la actividad artesanal. Queremos mostrar sus raíces ancestrales\, la historia de los pueblos originarios\, sus costumbres\, gastronomía\, ritos y juegos. \nLugar: Universidad Monteávila (Boleita)\nFecha: Lunes 28 de octubre\, 9:00am\nEntrada: Gratis
URL:https://mujeranalitica.com/evento/encuentro-de-mujeres-indigenas-por-la-biodiversidad/
END:VEVENT
BEGIN:VEVENT
DTSTART;TZID=America/Caracas:20241028T080000
DTEND;TZID=America/Caracas:20241108T170000
DTSTAMP:20260424T120827
CREATED:20241008T230250Z
LAST-MODIFIED:20241008T230250Z
UID:36995-1730102400-1731085200@mujeranalitica.com
SUMMARY:Coffee Branding: Tu marca es más que un logo
DESCRIPTION:Si tienes un logo pero no te convence\, si quieres tener coherencia visual\, si quieres darle fuerza a la imagen que ya tienes. Te invito a participar en el Coffee Branding\, un reto de 10 días porque tu marca es más que un logo. \n🚀Te ayudaré en el proceso y por menos de lo que vale un café al día\, obtendrás una identidad visual\, alineada con tu propósito de marca y comunicar tus objetivos.\n☕Este reto está diseñado para NO diseñadores\n* Acompañamiento\n* Cuadernillo de actividades\n* 4 Encuentros online por google meet\n* Caja de herramientas digitales\n* Grupo de enlace por telegram\n* Todo el contenido quedará grabado\n* Online\n* Dedicas el tiempo que necesites\, alrededor de una hora de tu parte. Recuerda que todo queda grabado\nEmpezamos el Lunes 28/10 y terminamos el viernes 8/11 \n🔴 Reserva tu cupo \n😉Recuerda\, tu marca\, es mucho más que un logo \nInformación sobre inscripción: \nhttps://thaymy.com/reto10dias
URL:https://mujeranalitica.com/evento/coffee-branding-tu-marca-es-mas-que-un-logo/
END:VEVENT
BEGIN:VEVENT
DTSTART;TZID=America/Caracas:20241023T180000
DTEND;TZID=America/Caracas:20241023T200000
DTSTAMP:20260424T120827
CREATED:20241017T153337Z
LAST-MODIFIED:20241017T153337Z
UID:37120-1729706400-1729713600@mujeranalitica.com
SUMMARY:¡Vamos a hablar de negocios!
DESCRIPTION:¡Vamos a hablar de negocios! En @hachicaracas \nRegálate esta tarde entre amigas con música en vivo\,humor\, networking  y mucho amor propio \nArma tu grupo y ven a Hachi Caracas en Trasnocho Cultural\, Paseo las Mercedes de 6 a 8 pm. \nUna tarde para compartir y hablar de nuestras habilidades y negocios: \nTrae tu emprendimiento \nMuestra tus habilidades \nCuenta sobre tu empresa \nAprende a manejar emociones al emprender \nFortalece tu amor propio \nHaz nuevas amigas y socias \nMúsica en vivo \n20$ incluye un tea Cocktail \nReserva hoy 0424 2366277
URL:https://mujeranalitica.com/evento/vamos-a-hablar-de-negocios/
END:VEVENT
BEGIN:VEVENT
DTSTART;TZID=America/Caracas:20241023T170000
DTEND;TZID=America/Caracas:20241023T190000
DTSTAMP:20260424T120827
CREATED:20241022T133801Z
LAST-MODIFIED:20241022T133801Z
UID:37216-1729702800-1729710000@mujeranalitica.com
SUMMARY:Foro Chat: Gerencia Personal
DESCRIPTION:Miércoles 23 de octubre 2024\, 5:00pm (hora Venezuela) \nPara participar\, ingresa a nuestro grupo de whatsapp:\nhttps://chat.whatsapp.com/HJOYNnTEbyCEEm1XxOkpsa
URL:https://mujeranalitica.com/evento/foro-chat-gerencia-personal/
END:VEVENT
BEGIN:VEVENT
DTSTART;TZID=America/Caracas:20241019T080000
DTEND;TZID=America/Caracas:20241019T170000
DTSTAMP:20260424T120827
CREATED:20241021T131434Z
LAST-MODIFIED:20241021T131434Z
UID:37193-1729324800-1729357200@mujeranalitica.com
SUMMARY:Cultura Activa y Bienestar en Casarapa
DESCRIPTION:Este Sábado 19/10 el grupo de entrena con la @barbiekiller9240 conmemora el día de la prevención del cáncer de mama\, con un ameno compartir luego del entrenamiento. Creemos que la salud física y el bienestar integral mente – emociones pasa por también tener espacios para nutrirnos en el contacto con la naturaleza y rodearnos de buena vibra.\n.\nLa salud psicoemocional es clave\, el ejercicio físico te ayuda a generar la hormona de la felicidad\, el compartir en tribu te nutre el alma \, tu cuerpo se sentirá amado y se mantiene sano. Cuidarte es tu responsabilidad! Amate y dile si al bienestar porque la prevención es la clave.
URL:https://mujeranalitica.com/evento/cultura-activa-y-bienestar-en-casarapa/
END:VEVENT
BEGIN:VEVENT
DTSTART;TZID=America/Caracas:20241019T080000
DTEND;TZID=America/Caracas:20241019T120000
DTSTAMP:20260424T120827
CREATED:20241017T154311Z
LAST-MODIFIED:20241017T154311Z
UID:37124-1729324800-1729339200@mujeranalitica.com
SUMMARY:Pesquisa de cáncer de mama
DESCRIPTION:
URL:https://mujeranalitica.com/evento/pesquisa-de-cancer-de-mama/
END:VEVENT
BEGIN:VEVENT
DTSTART;TZID=America/Caracas:20241018T083000
DTEND;TZID=America/Caracas:20241018T123000
DTSTAMP:20260424T120827
CREATED:20241011T010547Z
LAST-MODIFIED:20241011T010547Z
UID:37003-1729240200-1729254600@mujeranalitica.com
SUMMARY:
DESCRIPTION:Te invitamos a participar en un taller gratuito donde aprenderás a expresarte de manera clara\, respetuosa y efectiva. 💬 ¡No te pierdas esta oportunidad de mejorar tus habilidades de comunicación! \n🗓 Fecha: Viernes\, 18 de octubre\n💡 Costo: Gratuito
URL:https://mujeranalitica.com/evento/37003/
END:VEVENT
BEGIN:VEVENT
DTSTART;TZID=America/Caracas:20241016T090000
DTEND;TZID=America/Caracas:20241116T170000
DTSTAMP:20260424T120827
CREATED:20241012T224106Z
LAST-MODIFIED:20241012T224106Z
UID:37057-1729069200-1731776400@mujeranalitica.com
SUMMARY:Exposición interactiva “El Mundo Según Mafalda”
DESCRIPTION:La exposición interactiva “El Mundo Según Mafalda”\, que se instaló en la Galería de Arte Nacional el 16 de septiembre de este año\, prolongará su estancia en Caracas desde el 16 de octubre hasta el 16 de noviembre. \nEsta experiencia calificada como “increíble e inmersiva”\, tiene entrada gratis y estará abierta desde las 9:00 de la mañana hasta las 5:00 p.m.\, de martes a domingo. En su primera etapa en Caracas\, la han visitado 30.000 personas.
URL:https://mujeranalitica.com/evento/exposicion-interactiva-el-mundo-segun-mafalda/
END:VEVENT
BEGIN:VEVENT
DTSTART;TZID=America/Caracas:20241011T090000
DTEND;TZID=America/Caracas:20241011T170000
DTSTAMP:20260424T120827
CREATED:20241009T161305Z
LAST-MODIFIED:20241009T161305Z
UID:36998-1728637200-1728666000@mujeranalitica.com
SUMMARY:Presentación de libro "Mujeres Indetenibles"
DESCRIPTION:¡Nos preparamos en URBE University para nuestra próxima presentación en Miami! \n📅 Fecha: Viernes\, 11 de octubre\n⏰ Hora: 9:00 a.m.\n📍 Lugar: Urbe University\, 11430 NW 20th St\, Doral\, FL 33172 \nPersonalidades destacadas presentes:\n• Christi Fraga – Alcaldesa de Doral @christifraga\n• Maureen Porras – Concejal de Doral @maureenporrasdoral\n• María Teresa Romero – Ex Embajadora de Guatemala @mt_romero\n• Rossana Ceccato – CEO de Redress @rossannaceccato \nEste proyecto literario\, que fue #1 en ventas en México y Estados Unidos\, celebra la fuerza de las mujeres inmigrantes\, con temas de emprendimiento\, derechos humanos y empoderamiento comunitario.
URL:https://mujeranalitica.com/evento/presentacion-de-libro-mujeres-indetenibles/
END:VEVENT
BEGIN:VEVENT
DTSTART;TZID=America/Caracas:20241010T193000
DTEND;TZID=America/Caracas:20241010T213000
DTSTAMP:20260424T120827
CREATED:20241008T210926Z
LAST-MODIFIED:20241008T210926Z
UID:36986-1728588600-1728595800@mujeranalitica.com
SUMMARY:Paseo por la canción popular latinoamericana
DESCRIPTION:
URL:https://mujeranalitica.com/evento/paseo-por-la-cancion-popular-latinoamericana/
END:VEVENT
BEGIN:VEVENT
DTSTART;TZID=America/Caracas:20241010T090000
DTEND;TZID=America/Caracas:20241010T120000
DTSTAMP:20260424T120827
CREATED:20241008T211243Z
LAST-MODIFIED:20241008T211308Z
UID:36989-1728550800-1728561600@mujeranalitica.com
SUMMARY:Conversatorio Virtual
DESCRIPTION:Te invitamos a participar del conversatorio virtual «El enfoque de género en la agenda global de adaptación al cambio climático». Organizado en el marco del desarrollo del CAS Género. \n📅 Jueves 10 de octubre.\n🕗 9:00 a.m. (Hola de Lima).\n✍️ Inscripciones: https://bit.ly/3ztFPpb
URL:https://mujeranalitica.com/evento/conversatorio-virtual/
END:VEVENT
BEGIN:VEVENT
DTSTART;TZID=America/Caracas:20241009T170000
DTEND;TZID=America/Caracas:20241009T190000
DTSTAMP:20260424T120827
CREATED:20241008T130720Z
LAST-MODIFIED:20241008T130720Z
UID:36970-1728493200-1728500400@mujeranalitica.com
SUMMARY:Foro Chat: Resolución de conflictos y negociación de acuerdos
DESCRIPTION:Resolución de conflictos y negociación de acuerdos \nSe explicarán las técnicas y la metodología que permiten manejar y resolver eficientemente conflictos en ámbitos comunitarios\, laborales y/o personales\, las actitudes que dificultan la solución de un conflicto\, las causas que lo provocan. \nInvitada Especial: Lupe Nieves \nAbogada litigante\, dirigente social y comunitaria.\nDiplomados en: Gerencia para Organizaciones Comunitarias\, Formación Política y Ciudadana\, Mediación en Derechos Económicos\, Sociales y Culturales\, Liderazgo en Inclusión Social y Acceso a Derechos (OEA)\, Mujeres como Agentes de Cambio\, Narración Oral. Profesora del Diplomado Mujeres como Agentes de Cambio de Mujer y Ciudadanía. \nMiércoles 9 de octubre\, 5:00pm (Hora Venezuela) \nPara participar\, debes unirte a nuestro grupo de whatsapp:\nhttps://chat.whatsapp.com/HJOYNnTEbyCEEm1XxOkpsa \nMujer y Ciudadanía\nFormando mujeres…construyendo ciudadanía
URL:https://mujeranalitica.com/evento/foro-chat-resolucion-de-conflictos-y-negociacion-de-acuerdos/
END:VEVENT
END:VCALENDAR