BEGIN:VCALENDAR
VERSION:2.0
PRODID:-//Mujer Analítica - ECPv6.15.11//NONSGML v1.0//EN
CALSCALE:GREGORIAN
METHOD:PUBLISH
X-WR-CALNAME:Mujer Analítica
X-ORIGINAL-URL:https://mujeranalitica.com
X-WR-CALDESC:Eventos para Mujer Analítica
REFRESH-INTERVAL;VALUE=DURATION:PT1H
X-Robots-Tag:noindex
X-PUBLISHED-TTL:PT1H
BEGIN:VTIMEZONE
TZID:America/Caracas
BEGIN:STANDARD
TZOFFSETFROM:-0400
TZOFFSETTO:-0400
TZNAME:-04
DTSTART:20180101T000000
END:STANDARD
END:VTIMEZONE
BEGIN:VEVENT
DTSTART;TZID=America/Caracas:20191107T140000
DTEND;TZID=America/Caracas:20191107T170000
DTSTAMP:20260425T081834
CREATED:20191106T192238Z
LAST-MODIFIED:20191106T192238Z
UID:2753-1573135200-1573146000@mujeranalitica.com
SUMMARY:Taller Trabajo en Equipo
DESCRIPTION:La Organización Mujer y Ciudadanía te invita a participar este jueves 07 de  Noviembre en el Taller Trabajo en Equipo\, que se llevará a cabo en la Asociación Don Bosco\, parque Simón Rodríguez\, los Ruices\, Calle B\, de 2:00p.m a 5:00p.m\, dentro del Ciclo de talleres «Mujeres como Agentes de Cambio Construyendo Ciudadanía»\, en el marco del proyecto ReconciliACCIÓN. \nEste taller será dictado por el facilitador Sergio Gómez\, Miembro de la Organización Oportunidad a.c. \nContinua en la formación como una agente de cambio e inscríbete llenando el siguiente formulario: https://forms.gle/2pY24ivEoBvnLVzF9 \n  \nRedes Sociales: \nInstagram  Facebook: \n@mujeryciudadania \nTwitter: @mujeryciudadania \n  \n#MujeryCiudadanía \n#ReconciliACCIÓN \n@oportunidad \n@monteavila
URL:https://mujeranalitica.com/evento/taller-trabajo-en-equipo/
LOCATION:Asociacion Don Bosco\, parque Simón Rodríguez\, los Ruices\, Calle B\, Caracas\, Distrito Capital\, Venezuela
END:VEVENT
BEGIN:VEVENT
DTSTART;TZID=America/Caracas:20191105T083000
DTEND;TZID=America/Caracas:20191105T120000
DTSTAMP:20260425T081834
CREATED:20191016T140134Z
LAST-MODIFIED:20191016T140134Z
UID:1833-1572942600-1572955200@mujeranalitica.com
SUMMARY:La magia de ser mujer
DESCRIPTION:
URL:https://mujeranalitica.com/evento/la-magia-de-ser-mujer/
LOCATION:Sede de la Asociación Venezolana de Mujeres\, Av. Victoria con esquina Maria Teresa\, Caracas\, Venezuela
END:VEVENT
BEGIN:VEVENT
DTSTART;TZID=America/Caracas:20191101T190000
DTEND;TZID=America/Caracas:20191101T210000
DTSTAMP:20260425T081834
CREATED:20191106T191226Z
LAST-MODIFIED:20191106T191334Z
UID:2754-1572634800-1572642000@mujeranalitica.com
SUMMARY:Venezuela con nombre de Mujer
DESCRIPTION:
URL:https://mujeranalitica.com/evento/venezuela-con-nombre-de-mujer/
LOCATION:centro cultural bod\, Distrito Capital\, Venezuela
END:VEVENT
BEGIN:VEVENT
DTSTART;TZID=America/Caracas:20191023T183000
DTEND;TZID=America/Caracas:20191023T210000
DTSTAMP:20260425T081834
CREATED:20191016T135739Z
LAST-MODIFIED:20191016T135739Z
UID:1829-1571855400-1571864400@mujeranalitica.com
SUMMARY:Mujeres en el exilio y su lucha por la democracia
DESCRIPTION:
URL:https://mujeranalitica.com/evento/mujeres-en-el-exilio-y-su-lucha-por-la-democracia/
LOCATION:Casa de Vacas\, Parque del retiro\, Madrid\, Spain
END:VEVENT
BEGIN:VEVENT
DTSTART;TZID=America/Caracas:20191022T100000
DTEND;TZID=America/Caracas:20191022T130000
DTSTAMP:20260425T081834
CREATED:20191017T221833Z
LAST-MODIFIED:20191017T221833Z
UID:1860-1571738400-1571749200@mujeranalitica.com
SUMMARY:CINEtertulia “La voz de la igualdad"
DESCRIPTION:
URL:https://mujeranalitica.com/evento/cinetertulia-la-voz-de-la-igualdad/
LOCATION:Cinex LIDO\, Av.Francisco de Miranda\, Centro LIDO\, nivel feria\, Caracas\, Venezuela
END:VEVENT
BEGIN:VEVENT
DTSTART;TZID=America/Caracas:20191022T090000
DTEND;TZID=America/Caracas:20191022T120000
DTSTAMP:20260425T081834
CREATED:20191014T222852Z
LAST-MODIFIED:20191018T152545Z
UID:1792-1571734800-1571745600@mujeranalitica.com
SUMMARY:Taller de Empoderamiento Femenino
DESCRIPTION:  \nMujer y Ciudadanía en el marco del Comité de Premiación del Premio Mujer Analítica 2019 llevará a cabo este martes 22 de octubre\, en el Aula de Seminario de la Universidad Monteávila\, de 9:00am a 12:00pm el Taller Empoderamiento Femenino a cargo de la Arqa. Aixa Armas Presidenta de Mujer y Ciudadanía. \nLas personas que asistan a este taller formaran parte del Comité de Premiación del Premio Mujer Analítica 2019 \nPara participar deberás inscríbete llenado el siguiente formulario https://forms.gle/2pY24ivEoBvnLVzF9
URL:https://mujeranalitica.com/evento/taller-de-empoderamiento-femenino/
LOCATION:Universidad Monteávila
END:VEVENT
BEGIN:VEVENT
DTSTART;TZID=America/Caracas:20191022T080000
DTEND;TZID=America/Caracas:20191029T170000
DTSTAMP:20260425T081834
CREATED:20191017T135246Z
LAST-MODIFIED:20191017T135246Z
UID:1848-1571731200-1572368400@mujeranalitica.com
SUMMARY:Congreso Virtual para Mujeres AUTOESTIMA Y FELICIDAD
DESCRIPTION:L@s invito a inscribirse en el Congreso Virtual para Mujeres AUTOESTIMA Y FELICIDAD\, desde el 22 al 29 de Octubre. Podrás ver y escuchar a 58 excelentes profesionales de diferentes áreas conversando sobre el tema \nEn mi conferencia del día 29 de octubre\, CUERPO DE MUJER: AUTO IMAGEN y AUTOESTIMA\, conversaremos sobre: \n\nCómo los mensajes positivos y negativos “Grabados” en el cuerpo\, influyen directamente en tu autoestima.\nCómo Arraigar la estima y poder femenino\, a través de algunas técnicas psicocorporales orientadas al bienestar integral… Las Esperamos !!\n\nPuedes participar de forma gratuita\, si te conectas a las conferencias los días del congreso (22 al 29 de octubre) Previo al congreso\, puedes adquirir todas las conferencias y verlas cuando desees\, por un precio promocional de 49$\, al momento inscribirte. \nInscríbete por el siguiente link: https://go.hotmart.com/U17048802X
URL:https://mujeranalitica.com/evento/congreso-virtual-para-mujeres-autoestima-y-felicidad/
LOCATION:Distrito Capital
END:VEVENT
BEGIN:VEVENT
DTSTART;VALUE=DATE:20191019
DTEND;VALUE=DATE:20191020
DTSTAMP:20260425T081834
CREATED:20191019T184727Z
LAST-MODIFIED:20191019T184727Z
UID:1880-1571443200-1571529599@mujeranalitica.com
SUMMARY:Día mundial Contra el Cáncer de Mama
DESCRIPTION:
URL:https://mujeranalitica.com/evento/dia-mundial-contra-el-cancer-de-mama/
LOCATION:Distrito Capital
CATEGORIES:Efemérides
END:VEVENT
BEGIN:VEVENT
DTSTART;TZID=America/Caracas:20191017T150000
DTEND;TZID=America/Caracas:20191017T170000
DTSTAMP:20260425T081834
CREATED:20191017T140242Z
LAST-MODIFIED:20191017T140242Z
UID:1855-1571324400-1571331600@mujeranalitica.com
SUMMARY:Conversatorio: Ahisma -La no violencia-
DESCRIPTION:
URL:https://mujeranalitica.com/evento/conversatorio-ahisma-la-no-violencia/
LOCATION:C.C. Plaza La Boyera
CATEGORIES:Charlas
END:VEVENT
BEGIN:VEVENT
DTSTART;TZID=America/Caracas:20191017T150000
DTEND;TZID=America/Caracas:20191017T160000
DTSTAMP:20260425T081834
CREATED:20191017T134042Z
LAST-MODIFIED:20191017T134042Z
UID:1838-1571324400-1571328000@mujeranalitica.com
SUMMARY:Mujer y ciudadanía en el programa La Ruta de los Sueños
DESCRIPTION:Mujer y Ciudadanía estará hablando en torno a la relación entre procesos de producción artísticos y los procesos sociales en la construcción de paz con la Lic. Sharito Mejía y la Lic. Karillyan García sobre la Campaña #ArteporlaPaz este jueves 17 de octubre a las 3:00pm en el programa La Ruta de los Sueños con Ruth Domínguez transmitido por Radio Sintonía 1.420am. https://www.radiosintonia1420.com.ve/ \nEsta campaña #ArteporlaPaz desarrolla una serie de intervenciones plásticas de prestigiosos artistas\, encuentros\, concursos\, exposiciones para reflexionar y pensar sobre la importancia del arte en la cultura de paz. \nEsta campaña se lleva a cabo como parte de las actividades del proyecto ReconciliACCIÓN el cual ejecutan las organizaciones: Mujer y Ciudadanía\, People In Need\, Oportunidad a.c. y la Universidad Monteávila\, con el financiamiento de la Unión Europea. \nRedes Sociales:\nInstagram y Facebook: @mujeryciudadania\nTwitter: @mujerciudadania
URL:https://mujeranalitica.com/evento/mujer-y-ciudadania-en-el-programa-la-ruta-de-los-suenos/
LOCATION:Distrito Capital
END:VEVENT
BEGIN:VEVENT
DTSTART;TZID=America/Caracas:20191015T180000
DTEND;TZID=America/Caracas:20191015T200000
DTSTAMP:20260425T081834
CREATED:20191015T122725Z
LAST-MODIFIED:20191015T122725Z
UID:1821-1571162400-1571169600@mujeranalitica.com
SUMMARY:Razones para ser responsable
DESCRIPTION:
URL:https://mujeranalitica.com/evento/razones-para-ser-responsable/
LOCATION:Hotel Excecutive Suites\, Valencia\, Venezuela
END:VEVENT
BEGIN:VEVENT
DTSTART;VALUE=DATE:20191011
DTEND;VALUE=DATE:20191012
DTSTAMP:20260425T081834
CREATED:20191015T000552Z
LAST-MODIFIED:20191015T000552Z
UID:1818-1570752000-1570838399@mujeranalitica.com
SUMMARY:Día internacional de la mujer Boliviana
DESCRIPTION:
URL:https://mujeranalitica.com/evento/dia-internacional-de-la-mujer-boliviana/
LOCATION:Distrito Capital
CATEGORIES:Efemérides
END:VEVENT
BEGIN:VEVENT
DTSTART;VALUE=DATE:20191011
DTEND;VALUE=DATE:20191012
DTSTAMP:20260425T081834
CREATED:20191015T000318Z
LAST-MODIFIED:20191015T000318Z
UID:1815-1570752000-1570838399@mujeranalitica.com
SUMMARY:Presentación de la Campaña "Arte por la Paz"
DESCRIPTION:
URL:https://mujeranalitica.com/evento/presentacion-de-la-campana-arte-por-la-paz/
LOCATION:Distrito Capital
END:VEVENT
BEGIN:VEVENT
DTSTART;VALUE=DATE:20191011
DTEND;VALUE=DATE:20191012
DTSTAMP:20260425T081834
CREATED:20191014T230136Z
LAST-MODIFIED:20191014T230136Z
UID:1805-1570752000-1570838399@mujeranalitica.com
SUMMARY:Día Internacional de la niña
DESCRIPTION:
URL:https://mujeranalitica.com/evento/dia-internacional-de-la-nina/
LOCATION:Distrito Capital
CATEGORIES:Efemérides
END:VEVENT
BEGIN:VEVENT
DTSTART;TZID=America/Caracas:20191003T090000
DTEND;TZID=America/Caracas:20191003T120000
DTSTAMP:20260425T081834
CREATED:20191014T230451Z
LAST-MODIFIED:20191014T230451Z
UID:1808-1570093200-1570104000@mujeranalitica.com
SUMMARY:Taller de incidencia pública
DESCRIPTION:
URL:https://mujeranalitica.com/evento/taller-de-incidencia-publica/
LOCATION:C.C. Plaza La Boyera
CATEGORIES:Talleres de Tecnología 3.0
END:VEVENT
BEGIN:VEVENT
DTSTART;TZID=America/Caracas:20190926T180000
DTEND;TZID=America/Caracas:20190926T210000
DTSTAMP:20260425T081834
CREATED:20191014T230845Z
LAST-MODIFIED:20191014T230845Z
UID:1811-1569520800-1569531600@mujeranalitica.com
SUMMARY:Charla experimental: Asistencia humanitaria y promoción de cultura de paz
DESCRIPTION:
URL:https://mujeranalitica.com/evento/charla-experimental-asistencia-humanitaria-y-promocion-de-cultura-de-paz/
LOCATION:Xoffices\, 8300 NW 53RD ST STE 350\, Doral\, United States
CATEGORIES:Charlas
END:VEVENT
END:VCALENDAR