BEGIN:VCALENDAR
VERSION:2.0
PRODID:-//Mujer Analítica - ECPv6.15.11//NONSGML v1.0//EN
CALSCALE:GREGORIAN
METHOD:PUBLISH
X-WR-CALNAME:Mujer Analítica
X-ORIGINAL-URL:https://mujeranalitica.com
X-WR-CALDESC:Eventos para Mujer Analítica
REFRESH-INTERVAL;VALUE=DURATION:PT1H
X-Robots-Tag:noindex
X-PUBLISHED-TTL:PT1H
BEGIN:VTIMEZONE
TZID:America/Caracas
BEGIN:STANDARD
TZOFFSETFROM:-0400
TZOFFSETTO:-0400
TZNAME:-04
DTSTART:20240101T000000
END:STANDARD
END:VTIMEZONE
BEGIN:VEVENT
DTSTART;TZID=America/Caracas:20250528T170000
DTEND;TZID=America/Caracas:20250528T183000
DTSTAMP:20260424T022736
CREATED:20250528T133826Z
LAST-MODIFIED:20250528T133826Z
UID:40726-1748451600-1748457000@mujeranalitica.com
SUMMARY:Foro Chat: PROCREAC: Mediación Táchira: Un modelo exitoso para la convivencia en comunidad
DESCRIPTION:
URL:https://mujeranalitica.com/evento/foro-chat-procreac-mediacion-tachira-un-modelo-exitoso-para-la-convivencia-en-comunidad/
END:VEVENT
BEGIN:VEVENT
DTSTART;TZID=America/Caracas:20250528T160000
DTEND;TZID=America/Caracas:20250528T180000
DTSTAMP:20260424T022736
CREATED:20250526T204804Z
LAST-MODIFIED:20250526T204804Z
UID:40695-1748448000-1748455200@mujeranalitica.com
SUMMARY:Miércoles para un café con...
DESCRIPTION: 
URL:https://mujeranalitica.com/evento/miercoles-para-un-cafe-con/
END:VEVENT
BEGIN:VEVENT
DTSTART;TZID=America/Caracas:20250526T110000
DTEND;TZID=America/Caracas:20250526T130000
DTSTAMP:20260424T022736
CREATED:20250526T204634Z
LAST-MODIFIED:20250526T204634Z
UID:40691-1748257200-1748264400@mujeranalitica.com
SUMMARY:Foro Regional sobre la reducción del espacio cívico en las Américas
DESCRIPTION:
URL:https://mujeranalitica.com/evento/foro-regional-sobre-la-reduccion-del-espacio-civico-en-las-americas/
END:VEVENT
BEGIN:VEVENT
DTSTART;TZID=America/Caracas:20250523T130000
DTEND;TZID=America/Caracas:20250523T150000
DTSTAMP:20260424T022736
CREATED:20250522T155114Z
LAST-MODIFIED:20250522T155248Z
UID:40585-1748005200-1748012400@mujeranalitica.com
SUMMARY:Alexandra Subero en programa "Actualidad" por Radio Tu Preferida 104.5
DESCRIPTION:  \n \nAlexandra Subero\, coach internacional estará este viernes 23 de mayo de 2025 en el progrma «Actualidad» por Radio Tu Preferida 104.5\, con la periodista Ernestina Herrara.  Subero es  la autora del libro «Crea la vida que quieres» y en este espacio compartirá las herramientas para mejorar nuestro estilo de vida\, dominar nuestras emociones \, tener autocontrol y orden. \nSintoniza a partir de la 1 de la tarde  (Hora Venezuela)\,  marcando www.rafagonzalezdj.com y pulsa Tu Preferida
URL:https://mujeranalitica.com/evento/alexandra-subero-en-programa-actualidad-por-radio-tu-preferida-104-5/
END:VEVENT
BEGIN:VEVENT
DTSTART;TZID=America/Caracas:20250521T170000
DTEND;TZID=America/Caracas:20250521T190000
DTSTAMP:20260424T022736
CREATED:20250518T234032Z
LAST-MODIFIED:20250518T234032Z
UID:40460-1747846800-1747854000@mujeranalitica.com
SUMMARY:Foro Chat: 𝗠𝗶𝘁𝗼𝘀 𝘆 𝗿𝗲𝗮𝗹𝗶𝗱𝗮𝗱𝗲𝘀 𝗱𝗲𝗹 𝗿𝗲𝗰𝗶𝗰𝗹𝗮𝗷𝗲
DESCRIPTION:
URL:https://mujeranalitica.com/evento/foro-chat-%f0%9d%97%a0%f0%9d%97%b6%f0%9d%98%81%f0%9d%97%bc%f0%9d%98%80-%f0%9d%98%86-%f0%9d%97%bf%f0%9d%97%b2%f0%9d%97%ae%f0%9d%97%b9%f0%9d%97%b6%f0%9d%97%b1%f0%9d%97%ae%f0%9d%97%b1%f0%9d%97%b2/
END:VEVENT
BEGIN:VEVENT
DTSTART;TZID=America/Caracas:20250521T090000
DTEND;TZID=America/Caracas:20250521T110000
DTSTAMP:20260424T022736
CREATED:20250520T143748Z
LAST-MODIFIED:20250520T143748Z
UID:40561-1747818000-1747825200@mujeranalitica.com
SUMMARY:Webinar "Género y desarrollo Q&A"
DESCRIPTION:Participa del webinar «Género y desarrollo Q&A. Una sesión interactiva de preguntas y respuestas sobre el Certificado Ejecutivo en Género y Desarrollo. \n📅 Miércoles 21 de mayo.\n🕘 9:00 a.m. (Hora Lima).\n👉 Más información y registro: https://bit.ly/3YysR2H
URL:https://mujeranalitica.com/evento/webinar-genero-y-desarrollo-qa/
END:VEVENT
BEGIN:VEVENT
DTSTART;TZID=America/Caracas:20250519T200000
DTEND;TZID=America/Caracas:20250519T200000
DTSTAMP:20260424T022736
CREATED:20250517T200505Z
LAST-MODIFIED:20250517T200505Z
UID:40407-1747684800-1747684800@mujeranalitica.com
SUMMARY:
DESCRIPTION:CULTURA MUNDIS\, en alianza con EDITORIAL DIOSA BLANCA\, invita a un encuentro especial con la poeta MARIA ANTONIETA FLORES\, entrevistada por ANA MARIA HURTADO\, EDGAR VIDAURRE y JOHNNY GAVLOVSKI. En este encuentro\, exploraremos su trayectoria y sus obras. \nUn espacio donde las palabras nos llevan en un viaje que nos conecta con la belleza y la fuerza de la poesía a través de las palabras de grandes poetas. \nREGISTRO GRATUITO: https://culturamundis.com/2025/05/poetizando-maria-antonieta-flores/ \nNo te lo pierdas\, porque las historias que se tejen con versos son las que nos recuerdan el poder de la humanidad. \nCULTURA MUNDIS\, TU VENTANA AL MUNDO
URL:https://mujeranalitica.com/evento/40407/
END:VEVENT
BEGIN:VEVENT
DTSTART;TZID=America/Caracas:20250508T090000
DTEND;TZID=America/Caracas:20250508T130000
DTSTAMP:20260424T022736
CREATED:20250507T150848Z
LAST-MODIFIED:20250507T150848Z
UID:40306-1746694800-1746709200@mujeranalitica.com
SUMMARY:
DESCRIPTION:
URL:https://mujeranalitica.com/evento/40306/
END:VEVENT
BEGIN:VEVENT
DTSTART;TZID=America/Caracas:20250507T170000
DTEND;TZID=America/Caracas:20250507T190000
DTSTAMP:20260424T022736
CREATED:20250507T150444Z
LAST-MODIFIED:20250507T150444Z
UID:40304-1746637200-1746644400@mujeranalitica.com
SUMMARY:Foro Chat: Herramientas para convivir con armonía y bienestar con la pareja
DESCRIPTION:  \n📱 Participa uniéndote a uno de los grupos de whatsapp:\nhttps://chat.whatsapp.com/BauH7OXQcuVBhGUkJgm27V \nhttps://chat.whatsapp.com/D2BLSD06MhN6n3vRVka1vz \nhttps://chat.whatsapp.com/HJOYNnTEbyCEEm1XxOkpsa \nMᴜᴊᴇʀ ʏ Cɪᴜᴅᴀᴅᴀɴíᴀ\nFᴏʀᴍᴀɴᴅᴏ ᴍᴜᴊᴇʀᴇꜱ…ᴄᴏɴꜱᴛʀᴜʏᴇɴᴅᴏ ᴄɪᴜᴅᴀᴅᴀɴíᴀ
URL:https://mujeranalitica.com/evento/foro-chat-herramientas-para-convivir-con-armonia-y-bienestar-con-la-pareja/
END:VEVENT
BEGIN:VEVENT
DTSTART;TZID=America/Caracas:20250502T103000
DTEND;TZID=America/Caracas:20250502T180000
DTSTAMP:20260424T022736
CREATED:20250501T204014Z
LAST-MODIFIED:20250501T204014Z
UID:40261-1746181800-1746208800@mujeranalitica.com
SUMMARY:Primer Bazar de Orfebrería para Mamá
DESCRIPTION:Primer Bazar de Orfebrería para Mamá\nDescubre la belleza en cada detalle \n. Fecha: 2 de mayo de 2025\n. Hora: 10:30 a. m. – 6:00 p. m.\n. Lugar: Cafetín del Instituto de Idioma y Cultura Alemán Goethe-Institut. Ubicado en la Av. Luis Roche de Altamira\, entre la 3ra y 4ta transversal\, Torre AltAvila. \n¿Qué encontrarás?\nPrimer Bazar de Orfebrería para Mamá\nDescubre la belleza en cada detalle \n. Fecha: 2 de mayo de 2025\n. Hora: 10:30 a. m. – 6:00 p. m.\n. Lugar: Cafetín del Instituto de Idioma y Cultura Alemán Goethe-Institut. Ubicado en la Av. Luis Roche de Altamira\, entre la 3ra y 4ta transversal\, Torre AltAvila. \nÚnete a nosotros en un evento único donde el arte de la orfebrería se encuentra con el amor por mamá. Ven a explorar una selección exclusiva de joyas artesanales\, diseñadas con pasión y dedicación. \n¡Te esperamos!\nDisfruta de un ambiente acogedor\, música suave y la oportunidad de encontrar el regalo perfecto para esa persona tan especial. Además\, podrás degustar las delicias de nuestro anfitrión @aguilabaker7: empanadas argentinas\, alfajores\, medialunas y pan de chocolate. \nCon la participación de los orfebres: \n@tallerescueladelatierra \n@osirisreveron\n@solchisorfebre\n@tupibijoux \nY como invitadas:\n@juggler.art\n@gisray_ve \n. Joyas únicas: Piezas hechas a mano que capturan la esencia de cada madre.\n. Diseños modernos: Diferentes estilos que se adaptan a cualquier ocasión.\n. Regalos especiales: Sorprende a mamá con un detalle que atesorará por siempre. \n¡Te esperamos!\nDisfruta de un ambiente acogedor\, música suave y la oportunidad de encontrar el regalo perfecto para esa persona tan especial. Además\, podrás degustar las delicias de nuestro anfitrión @aguilabaker7: empanadas argentinas\, alfajores\, medialunas y pan de chocolate.
URL:https://mujeranalitica.com/evento/primer-bazar-de-orfebreria-para-mama/
END:VEVENT
BEGIN:VEVENT
DTSTART;TZID=America/Caracas:20250502T090000
DTEND;TZID=America/Caracas:20250502T140000
DTSTAMP:20260424T022736
CREATED:20250426T211456Z
LAST-MODIFIED:20250426T211456Z
UID:40240-1746176400-1746194400@mujeranalitica.com
SUMMARY:Segundo Foro de Discusión: La Reconciliación\, el Perdón y la Paz
DESCRIPTION:
URL:https://mujeranalitica.com/evento/segundo-foro-de-discusion-la-reconciliacion-el-perdon-y-la-paz/
END:VEVENT
BEGIN:VEVENT
DTSTART;TZID=America/Caracas:20250425T180000
DTEND;TZID=America/Caracas:20250425T200000
DTSTAMP:20260424T022736
CREATED:20250426T141736Z
LAST-MODIFIED:20250426T141736Z
UID:40223-1745604000-1745611200@mujeranalitica.com
SUMMARY:Las niñas y las TIC
DESCRIPTION:Les invitamos acompañarnos hoy viernes 25/04/2025\, a las 18:00 / 6:00 p.m. (hora de Venezuela)\, en el #DíaNaranja en el III Encuentro #EnSororidad\, conversaremos sobre las NIÑAS Y LAS TECNOLOGÍAS DE INFORMACIÓN Y COMUNICACIÓN\, con Mariangela Petrizzo\, Nerissa Aguilera integrantes de @activistassl y Mharyha Morales @escuela_de_ninaslibres 💜🧡💜 \nContando con la moderación de Reina Baiz Villafranca @abogadareinabaiz\, Directora Ejecutiva de Éxodo 🤝💜 \nLes invitamos a registrarse en el enlace que se encuentra en la bio\, así como en el código QR de la imagen\, esperamos su participación 🤝💜 \n 
URL:https://mujeranalitica.com/evento/las-ninas-y-las-tic/
END:VEVENT
BEGIN:VEVENT
DTSTART;TZID=America/Caracas:20250425T090000
DTEND;TZID=America/Caracas:20250425T120000
DTSTAMP:20260424T022736
CREATED:20250421T194146Z
LAST-MODIFIED:20250421T194311Z
UID:40174-1745571600-1745582400@mujeranalitica.com
SUMMARY:Foro de Discusión: La Masculinidad Positiva
DESCRIPTION:
URL:https://mujeranalitica.com/evento/foro-de-discusion-la-masculinidad-positiva/
END:VEVENT
BEGIN:VEVENT
DTSTART;TZID=America/Caracas:20250424T160000
DTEND;TZID=America/Caracas:20250424T180000
DTSTAMP:20260424T022736
CREATED:20250422T140029Z
LAST-MODIFIED:20250422T140029Z
UID:40183-1745510400-1745517600@mujeranalitica.com
SUMMARY:Masterclass: El Cuento como efecto
DESCRIPTION:Si de alguna forma te llama la atención la literatura\, si alguna vez te has planteado la posibilidad de escribir un cuento y no te has atrevido. Si quieres descubrir todos los elementos que hay detrás de un cuento\, no te pierdas esta clase magistral. \nNo hay que tener experiencia en el tema para acercarse a él. Este encuentro forma parte de las clases magistrales que ofrece la Escuela de Ideas de Pasion País.\n*\nEL CUENTO COMO EFECTO\n(O la importancia de planificar una historia) \nEn muy pocas palabras: No dejes que te lo cuenten. Inscríbete ya. Solo por $10 los cuales te incluyen estacionamiento y certificado de asistencia. \nLas principales interrogantes encontrarán respuesta en este encuentro:\n1. ¿Cómo comenzar y cómo terminar un cuento?\n2. ¿Cómo crear tensión?\n3. ¿Qué es un indicio y qué es una causalidad?\n4. El punto de vista del narrador.\n5. Cómo poner el título adecuado.\n6. ¿Qué hacer con la hoja en blanco?\n7. Cómo elegir una idea? Todo esto y mucho más… \nCon la reconocida docente escuela de Comunicación de la UCV y autora de varios libros de cuentos: Eritza Liendo. \nCinetica Cultural. Jueves 24 de abril. De 4 a 6:00 Pm. Calle B. Planta Baja. Torre Cinética. Los Ruices. Con estacionamiento y vigilancia privada. \nInscríbete ya en forospasionpais@gmail.com
URL:https://mujeranalitica.com/evento/masterclass-el-cuento-como-efecto/
END:VEVENT
BEGIN:VEVENT
DTSTART;TZID=America/Caracas:20250423T170000
DTEND;TZID=America/Caracas:20250423T190000
DTSTAMP:20260424T022736
CREATED:20250421T193947Z
LAST-MODIFIED:20250421T193947Z
UID:40172-1745427600-1745434800@mujeranalitica.com
SUMMARY:Foro Chat: Escuchar: Por qué y para qué
DESCRIPTION:Este foro chat tiene como objetivo que comprendamos como líderes\, la importancia de escuchar el entorno en ambientes disruptivos\, suspendiendo creencias y juicios limitantes\, abriendo la mente\, las emociones y las acciones\, para visualizar futuros posibles. \nInvitada Especial: María Antonieta Angarita\nLicenciada en Educación. Especialista en Gerencia Educativa\, Master en Inteligencia Emocional\, coach de vida. Profesora UNIMET en temas de innovación y emprendimiento. Líder del Laboratorio de Innovación Social Venezuela Híkola. \n👉🏼 Miércoles 23 de abril 2025\n⏱️ 5:00pm (Hora Venezuela) \n📱 Participa uniéndote a uno de los grupos de whatsapp:\nhttps://chat.whatsapp.com/BauH7OXQcuVBhGUkJgm27V \nhttps://chat.whatsapp.com/D2BLSD06MhN6n3vRVka1vz \nhttps://chat.whatsapp.com/HJOYNnTEbyCEEm1XxOkpsa \nMᴜᴊᴇʀ ʏ Cɪᴜᴅᴀᴅᴀɴíᴀ\nFᴏʀᴍᴀɴᴅᴏ ᴍᴜᴊᴇʀᴇꜱ…ᴄᴏɴꜱᴛʀᴜʏᴇɴᴅᴏ ᴄɪᴜᴅᴀᴅᴀɴíᴀ
URL:https://mujeranalitica.com/evento/foro-chat-escuchar-por-que-y-para-que/
END:VEVENT
BEGIN:VEVENT
DTSTART;TZID=America/Caracas:20250422T080000
DTEND;TZID=America/Caracas:20250425T170000
DTSTAMP:20260424T022736
CREATED:20250421T194541Z
LAST-MODIFIED:20250421T194541Z
UID:40177-1745308800-1745600400@mujeranalitica.com
SUMMARY:Ciclo de Capacitación sobre Capital Femenino
DESCRIPTION:Capital Femenino: Innovación y Transformación Financiera\n\n\n\n\n\nDescripción\nCiclo de capacitaciones sobre acceso a financiamiento para mujeres empresarias\n\n\nFecha y hora\n\n\n\n\n\n22 abr 2025 11:00 a. m.\n23 abr 2025 11:00 a. m.\n24 abr 2025 11:00 a. m.\n25 abr 2025 11:00 a. m.\n\n\nSe muestra la hora en Caracas \nPara registrar su participación acceda al siguiente enlace: https://us02web.zoom.us/webinar/register/WN_sJ6AW_c0TWmmv8Muabw3UA#/registration
URL:https://mujeranalitica.com/evento/ciclo-de-capacitacion-sobre-capital-femenino/
END:VEVENT
BEGIN:VEVENT
DTSTART;TZID=America/Caracas:20250411T190000
DTEND;TZID=America/Caracas:20250411T203000
DTSTAMP:20260424T022736
CREATED:20250411T210425Z
LAST-MODIFIED:20250411T210425Z
UID:40023-1744398000-1744403400@mujeranalitica.com
SUMMARY:Transformando el Grano de Cacao por la calidad del Chocolate y de la vida
DESCRIPTION:Nos complace invitarte al primer webinar\, como parte de las actividades preparatorias al COICacao – I Congreso Internacional del Cacao y IV Congreso Venezolano del Cacao y su Industria. \nFecha: jueves 10 de abril del 2025\nHora: 7:00 p.m. hora de Venezuela \n¡Los esperamos! \nReserva el día y la hora\, agenda tu cita y guarda el enlace https://us06web.zoom.us/j/9739722502?pwd=ekFEZ3h0R01EajB5Sk14emFmc2Jmdz09&omn=89354359233 \n“Innovación y tradición: el futuro del cacao venezolano”\nCOICacao 2025
URL:https://mujeranalitica.com/evento/transformando-el-grano-de-cacao-por-la-calidad-del-chocolate-y-de-la-vida/
END:VEVENT
BEGIN:VEVENT
DTSTART;TZID=America/Caracas:20250409T170000
DTEND;TZID=America/Caracas:20250409T190000
DTSTAMP:20260424T022736
CREATED:20250408T152610Z
LAST-MODIFIED:20250408T152610Z
UID:40008-1744218000-1744225200@mujeranalitica.com
SUMMARY:Foro Chat: Principales Derechos de las Mujeres
DESCRIPTION:Los derechos de las mujeres no son una cuestión aislada\, sino un pilar fundamental para la construcción de sociedades justas\, equitativas\, prósperas y sostenibles. \nEn este foro chat vamos a informar\, para generar conciencia en torno a los principales derechos de las mujeres\, sus mecanismos de protección\, retos y avances para reducir la brecha de género. Mientras las mujeres puedan conocer y ejercer sus derechos van a inspirar la participación individual y colectiva en su defensa y promoción. \nInvitada Especial: 𝗔𝗻𝗱𝗿𝗲𝗮 𝗖𝗲𝗹𝗶𝘀 𝗟ó𝗽𝗲𝘇\nAbogada egresada de la UCAB. Defensora de Niños\, Niñas y Adolescentes de la Defensoría Madre Teresa de Calcuta. Egresada y actual profesora del Diplomado de Formación Política y Ciudadana de Mujer y Ciudadanía. Profesora Universitaria \n🪄 Miércoles 9 de abril 2025\n☀️ 5:00pm (Hora Venezuela) \nParticipa uniéndote a uno de los grupos de whatsapp:\nhttps://chat.whatsapp.com/BauH7OXQcuVBhGUkJgm27V \nhttps://chat.whatsapp.com/D2BLSD06MhN6n3vRVka1vz \nhttps://chat.whatsapp.com/HJOYNnTEbyCEEm1XxOkpsa \nMᴜᴊᴇʀ ʏ Cɪᴜᴅᴀᴅᴀɴíᴀ\nFᴏʀᴍᴀɴᴅᴏ ᴍᴜᴊᴇʀᴇꜱ…ᴄᴏɴꜱᴛʀᴜʏᴇɴᴅᴏ ᴄɪᴜᴅᴀᴅᴀɴíᴀ
URL:https://mujeranalitica.com/evento/foro-chat-principales-derechos-de-las-mujeres/
END:VEVENT
BEGIN:VEVENT
DTSTART;TZID=America/Caracas:20250329T083000
DTEND;TZID=America/Caracas:20250329T163000
DTSTAMP:20260424T022736
CREATED:20250327T145056Z
LAST-MODIFIED:20250327T145056Z
UID:39832-1743237000-1743265800@mujeranalitica.com
SUMMARY:Promoción en Evaluación Cardiovascular
DESCRIPTION:Cupos limitados. Llama y reserva tu cupo. PROMOCIONES. Consulta+Electrocardiograma 30$\nHolter 20$\nMapa 20$\nEcocardiograma 30$\nEvaluación Cardiovascular Preoperatoria 30$
URL:https://mujeranalitica.com/evento/promocion-en-evaluacion-cardiovascular/
END:VEVENT
BEGIN:VEVENT
DTSTART;TZID=America/Caracas:20250327T160000
DTEND;TZID=America/Caracas:20250327T190000
DTSTAMP:20260424T022736
CREATED:20250327T145408Z
LAST-MODIFIED:20250327T145408Z
UID:39835-1743091200-1743102000@mujeranalitica.com
SUMMARY:Estrategias de Éxito: Mujeres que transforman
DESCRIPTION: 
URL:https://mujeranalitica.com/evento/estrategias-de-exito-mujeres-que-transforman/
END:VEVENT
BEGIN:VEVENT
DTSTART;TZID=America/Caracas:20250326T170000
DTEND;TZID=America/Caracas:20250326T190000
DTSTAMP:20260424T022736
CREATED:20250327T152350Z
LAST-MODIFIED:20250327T152350Z
UID:39849-1743008400-1743015600@mujeranalitica.com
SUMMARY:Música con Aroma de Mujer
DESCRIPTION:¡Iniciamos nuestro curso de apreciación musical! \nEste 26 de marzo\, te invitamos a descubrir este maravilloso curso “Música con aroma de mujer”\, impartido por la destacada pianista\, compositora y magister en música latinoamericana\, Mariantonia Palacios. \nPrimera sesión: \nTema: Damas y reinas: compositoras en las cortes\, conventos\, castillos y palacios. \nFecha: Miércoles 26 de marzo \nHora: 5:00 p.m. \nLugar: Av. Luis Roche con 7ma transversal\, Altamira (Portón naranja). \nInversión: $15 por sesión. \n📲 Reserva tu cupo: 0424-1797744
URL:https://mujeranalitica.com/evento/musica-con-aroma-de-mujer/
END:VEVENT
BEGIN:VEVENT
DTSTART;TZID=America/Caracas:20250326T090000
DTEND;TZID=America/Caracas:20250326T090000
DTSTAMP:20260424T022736
CREATED:20250318T211451Z
LAST-MODIFIED:20250318T211451Z
UID:39782-1742979600-1742979600@mujeranalitica.com
SUMMARY:Mujeres Abriendo Caminos
DESCRIPTION:El Centro de Derechos Humanos de la UNIMET te invita al conversatorio “Mujeres abriendo caminos: Derechos\, Equidad y Liderazgo” 💪✨ \n🗓 Miércoles 26 de marzo\n🕘 9:00 a.m. – 12:30 p.m. (Registro: 8:30 a.m.)\n📍 Auditorio Francesca Pensieri\, UNIMET\n🎟 Entrada libre \nUn espacio para reflexionar sobre el liderazgo femenino con grandes panelistas de diferentes sectores y generaciones quienes compartirán sus experiencias y perspectivas sobre el papel de la mujer en la construcción de sociedades más justas y equitativas. \n¡No te lo pierdas! \n¡Te esperamos! \n📲 Asegura tu lugar en el siguiente link: https://forms.gle/ezLvRBrxSmbCywcA8
URL:https://mujeranalitica.com/evento/mujeres-abriendo-caminos/
END:VEVENT
BEGIN:VEVENT
DTSTART;TZID=America/Caracas:20250325T163000
DTEND;TZID=America/Caracas:20250325T183000
DTSTAMP:20260424T022736
CREATED:20250327T152225Z
LAST-MODIFIED:20250327T152225Z
UID:39846-1742920200-1742927400@mujeranalitica.com
SUMMARY:Concierto del Sistema de Orquesta Sinfónica
DESCRIPTION: 
URL:https://mujeranalitica.com/evento/concierto-del-sistema-de-orquesta-sinfonica/
END:VEVENT
BEGIN:VEVENT
DTSTART;TZID=America/Caracas:20250324T190000
DTEND;TZID=America/Caracas:20250324T210000
DTSTAMP:20260424T022736
CREATED:20250220T160138Z
LAST-MODIFIED:20250220T160138Z
UID:39553-1742842800-1742850000@mujeranalitica.com
SUMMARY:Diálogo de las Américas
DESCRIPTION:
URL:https://mujeranalitica.com/evento/dialogo-de-las-americas/
END:VEVENT
BEGIN:VEVENT
DTSTART;TZID=America/Caracas:20250321T180000
DTEND;TZID=America/Caracas:20250321T200000
DTSTAMP:20260424T022736
CREATED:20250315T135350Z
LAST-MODIFIED:20250315T135350Z
UID:39753-1742580000-1742587200@mujeranalitica.com
SUMMARY:Simone. La mujer del siglo
DESCRIPTION:Esta es una película sobre un icono irrepetible en la lucha por los derechos de la mujer. La historia de Simone Veil. \nEs un espacio de la Fundación Gran Cine\, sus aliados CC Líder\, quienes junto a Mujer y Ciudadanía\, Espacio Anna Frank\, la Embajada de Francia en Venezuela\, y el Comité Venezolano de Yad Vashem para la recordación del Holocausto\, invitan para conmemorar el Mes de la Mujer con esta película Simone. La mujer del siglo (2022)\, dirigida y escrita por Olivier Dahan. \nEste filme biográfico francés relata la vida\, las luchas políticas y las tragedias de Simone Veil\, abogada y política francesa sobreviviente del Holocausto\, quien en la cinta es interpretada por las actrices Elsa Zylberstein y Rebecca Marder (esta última\, en sus años juveniles).\nEs un retrato épico e íntimo de una mujer con un recorrido vital fuera de lo común\, quien revolucionó su época defendiendo un mensaje humanista que pervive hasta hoy. \nLa actividad estará acompañada con los comentarios del Profesor Miguel Osers\, vicepresidente del Comité Venezolano de Yad Vashem para la recordación del Holocausto\, quien nos hablará de la experiencia de su padre en el Campo de Concentración de Auschwitz. \nTe esperamos en esta actividad de entrada libre en Cine Ávila Líder\, en el CC Líder Av. Fco. De Miranda el viernes 21 de marzo a las 6:00 pm (inicio puntual).\nEs una oportunidad extraordinaria para ver esta gran película sobre la mujer y su empoderamiento y su vivencia en el holocausto. \n¡No te lo pierdas!
URL:https://mujeranalitica.com/evento/simone-la-mujer-del-siglo/
END:VEVENT
BEGIN:VEVENT
DTSTART;TZID=America/Caracas:20250319T170000
DTEND;TZID=America/Caracas:20250319T190000
DTSTAMP:20260424T022736
CREATED:20250318T211945Z
LAST-MODIFIED:20250318T234241Z
UID:39788-1742403600-1742410800@mujeranalitica.com
SUMMARY:Foro Chat: Mujeres que dominan sus finanzas
DESCRIPTION:Cᴏɴᴛɪɴᴜᴀɴᴅᴏ ᴄᴏɴ ʟᴀ ᴘʀᴏɢʀᴀᴍᴀᴄɪóɴ ᴘᴏʀ ᴇʟ ᴍᴇꜱ ᴅᴇ ʟᴀ ᴍᴜᴊᴇʀ: Fᴏʀᴏ Cʜᴀᴛ: \n𝗠𝘂𝗷𝗲𝗿𝗲𝘀 𝗾𝘂𝗲 𝗱𝗼𝗺𝗶𝗻𝗮𝗻 𝘀𝘂𝘀 𝗳𝗶𝗻𝗮𝗻𝘇𝗮𝘀 \nEn este foro chat\, nuestra invitada especial\, Ing.Evelyn González Etayo\, @SoyEveMoney\, Mentora en inversiones y finanzas\, Consultora de negocios\, te explicará cómo invertir con estrategia\, proporcionándote herramientas teórico-prácticas para que tomes el control de tus finanzas. Ella te ayudará a construir un negocio rentable. \n📆 Miércoles 19 de marzo 2025\n⏰ 5:00pm \n📱 Participa uniéndote a uno de los gruos de whatsapp:\nhttps://chat.whatsapp.com/BauH7OXQcuVBhGUkJgm27V \nhttps://chat.whatsapp.com/D2BLSD06MhN6n3vRVka1vz \nhttps://chat.whatsapp.com/HJOYNnTEbyCEEm1XxOkpsa \n𝓜𝓾𝓳𝓮𝓻 𝔂 𝓒𝓲𝓾𝓭𝓪𝓭𝓪𝓷í𝓪\n𝓕𝓸𝓻𝓶𝓪𝓷𝓭𝓸 𝓶𝓾𝓳𝓮𝓻𝓮𝓼…𝓬𝓸𝓷𝓼𝓽𝓻𝓾𝔂𝓮𝓷𝓭𝓸 𝓬𝓲𝓾𝓭𝓪𝓭𝓪𝓷í𝓪
URL:https://mujeranalitica.com/evento/foro-chat-mujeres-que-dominan-sus-finanzas/
END:VEVENT
BEGIN:VEVENT
DTSTART;TZID=America/Caracas:20250312T170000
DTEND;TZID=America/Caracas:20250312T183000
DTSTAMP:20260424T022736
CREATED:20250311T221205Z
LAST-MODIFIED:20250311T221305Z
UID:39740-1741798800-1741804200@mujeranalitica.com
SUMMARY:Foro chat: Dolor de espalda en la menopausia
DESCRIPTION:𝙲𝚘𝚗𝚝𝚒𝚗𝚞𝚊𝚗𝚍𝚘 𝚌𝚘𝚗 𝚕𝚊 𝚙𝚛𝚘𝚐𝚛𝚊𝚖𝚊𝚌𝚒ó𝚗 𝚍𝚎 𝙼𝚞𝚓𝚎𝚛 𝚢 𝙲𝚒𝚞𝚍𝚊𝚍𝚊𝚗í𝚊 𝚎𝚗 𝚎𝚕 𝚖𝚎𝚜 𝚍𝚎 𝚕𝚊 𝙼𝚞𝚓𝚎𝚛: \nForo chat: Dolor de espalda en la menopausia \nEl dolor de espalda es un síntoma común de la menopausia\, y puede deberse a cambios hormonales\, disminución de la densidad ósea y debilitamiento muscular. Puede ir desde los hombros hasta la zona lumbar e involucrar piernas\, cuelllo y brazos. \n¿Cuáles son las causas de esta afección? ¿Qué tratamientos alternativos pueden usarse? \nInvitada Especial: 𝔻𝕣𝕒. 𝔸𝕝𝕒𝕞𝕚 ℝ𝕚𝕧𝕖𝕣𝕠\nMédico Cirujano (UCV)\, especialista en medicina regenerativa con formación en: Terapias innovadoras con Células Madre\, trasplante de progenitores Hematopoyéticos\, Medicina Homeopática\, Aplicación de Células Madre Autólogas vía endovenosa y locoregional\, uso de Factores de Crecimiento Autólogos\, Ozonoterapia en Medicina \, Obesología y Autismo. \nParticipa\, ingresando a uno de nuestros grupos de Whatsapp: \nGrupo 2:\nhttps://chat.whatsapp.com/D2BLSD06MhN6n3vRVka1vz\nGrupo 3:\nhttps://chat.whatsapp.com/BauH7OXQcuVBhGUkJgm27V \nMujer y Ciudadanía\nFormando mujeres…construyendo ciudadanía
URL:https://mujeranalitica.com/evento/foro-chat-dolor-de-espalda-en-la-menopausia/
END:VEVENT
BEGIN:VEVENT
DTSTART;TZID=America/Caracas:20250312T160000
DTEND;TZID=America/Caracas:20250312T190000
DTSTAMP:20260424T022736
CREATED:20250226T202102Z
LAST-MODIFIED:20250226T202102Z
UID:39602-1741795200-1741806000@mujeranalitica.com
SUMMARY:Impulsando el Liderazgo Femenino
DESCRIPTION:
URL:https://mujeranalitica.com/evento/impulsando-el-liderazgo-femenino/
END:VEVENT
BEGIN:VEVENT
DTSTART;TZID=America/Caracas:20250308T170000
DTEND;TZID=America/Caracas:20250308T200000
DTSTAMP:20260424T022736
CREATED:20250304T220953Z
LAST-MODIFIED:20250304T220953Z
UID:39621-1741453200-1741464000@mujeranalitica.com
SUMMARY:Biodanza
DESCRIPTION:
URL:https://mujeranalitica.com/evento/biodanza/
END:VEVENT
BEGIN:VEVENT
DTSTART;TZID=America/Caracas:20250308T130000
DTEND;TZID=America/Caracas:20250308T200000
DTSTAMP:20260424T022736
CREATED:20250304T215853Z
LAST-MODIFIED:20250304T220143Z
UID:39614-1741438800-1741464000@mujeranalitica.com
SUMMARY:"El Hallazgo" Un Mercadillo estilo Europeo
DESCRIPTION:Te queremos invitar a la Tercera edición del Hallazgo: Un Mercadillo estilo Europeo\, pionero en su estilo en Caracas.\nCreado y Conceptualizado por Valeria Flores de 17 años \n📌Agenda el Próximo Sábado 8 de Marzo desde la 1:00pm hasta las 8:00pm\n📍En La Principal de Las Mercedes con Calle Monterrey.\n.\n🌸A las 6:00 pm tendremos un acto de reconocimiento\, junto a la alcaldía de Baruta a Mujeres que Suman. (En el Marco del Día Internacional de La Mujer) \n😎Y a las 6:30pm tenemos una invitada muy especial Cantante y talento Venezolana.\nKatherin Coll. \n✳️Recuerda:\n– Somos Pet Friendly\n– ⁠Es una Actividad para toda la Familia\n– ⁠lleva Zapatos Cómodos porque es un evento de calle pero muy aesthetic.\n– ⁠Conseguirás hallazgos y Estarás apoyando al cuidado del medio ambiente\, dándole una segunda vida a las prendas
URL:https://mujeranalitica.com/evento/el-hallazgo-presentacion-musical/
END:VEVENT
END:VCALENDAR