BEGIN:VCALENDAR
VERSION:2.0
PRODID:-//Mujer Analítica - ECPv6.15.11//NONSGML v1.0//EN
CALSCALE:GREGORIAN
METHOD:PUBLISH
X-WR-CALNAME:Mujer Analítica
X-ORIGINAL-URL:https://mujeranalitica.com
X-WR-CALDESC:Eventos para Mujer Analítica
REFRESH-INTERVAL;VALUE=DURATION:PT1H
X-Robots-Tag:noindex
X-PUBLISHED-TTL:PT1H
BEGIN:VTIMEZONE
TZID:America/Caracas
BEGIN:STANDARD
TZOFFSETFROM:-0400
TZOFFSETTO:-0400
TZNAME:-04
DTSTART:20230101T000000
END:STANDARD
END:VTIMEZONE
BEGIN:VEVENT
DTSTART;TZID=America/Caracas:20240610T080000
DTEND;TZID=America/Caracas:20240630T170000
DTSTAMP:20260425T000948
CREATED:20240610T180952Z
LAST-MODIFIED:20240610T180952Z
UID:33818-1718006400-1719766800@mujeranalitica.com
SUMMARY:Galería D’Museo presenta exposición en homenaje a Sofía Imber en el Centro de Arte Los Galpones
DESCRIPTION:Con motivo de la celebración del centenario del nacimiento de la periodista y promotora cultural Sofía Imber\, se ha diseñado una programación integral dentro de la cual se incluye la exposición “Sofía Imber 100 años. Habitar la memoria”\, inaugurada el pasado 09 de mayo de 2024\, en los espacios expositivos de la galería D’Museo del Centro de Arte Los Galpones. \nCon la museografía\, conceptualización del espacio y habilitación tecnológica a cargo del artista Ricardo Arispe\, la muestra propone una lectura inmersiva en una instalación donde se recrea el ambiente que rodeaba a Sofía Imber\, acompañado por una presentación de cinco videos sobre el MACCSI\, la Colección\, su labor en el periodismo\, su vida personal y familiar\, y un video interactivo con inteligencia artificial\, según explica la investigadora de artes visuales y curadora de la exposición\, María Luz Cárdenas. \nAsimismo\, se exhibirá en la entrada del Centro de Arte Los Galpones un mural creado por Ricardo Arispe con inteligencia artificial\, en el que se hace alusión a la muestra y al entorno artístico que rodeó a Sofía Imber. \n“Sofía Imber 100 años. Habitar la memoria”\, es una de las exposiciones que integran el proyecto expositivo que se presentará en el marco del centenario de Sofía Imber\, las cuales\, como afirma María Luz Cárdenas\, “se perfilan bajo el enfoque de musealización de personajes\, sus aportes y su valor histórico. El objetivo es proporcionar una perspectiva de la importancia\, influencia y aportes de Sofía al desarrollo cultural y la proyección del arte venezolano\, a través de su labor periodística e institucional\, especialmente el Museo de Arte Contemporáneo Sofía Imber y la promoción de las artes y artistas en los años del ingreso de la modernidad en Venezuela”. \nLa exposición “Sofía Imber 100 años. Habitar la memoria”\, permanecerá en exhibición hasta finales de junio\, en la galería D’Museo\, ubicada en el Centro de Arte Los Galpones\, avenida Ávila con 8va transversal de Los Chorros\, Caracas. El horario de atención al público es de miércoles a sábados de 10:00 a.m a 5:00 p.m y domingo de 11:00 a 4:00 pm. \nhttps://www.instagram.com/reel/C7C9QOyu5eC/?igsh=MWEzZWk4bzR5dzR5OA== \n\nFuente: Prensa Cultural \nInstagram:  @soyjulierestifo
URL:https://mujeranalitica.com/evento/galeria-dmuseo-presenta-exposicion-en-homenaje-a-sofia-imber-en-el-centro-de-arte-los-galpones/
END:VEVENT
BEGIN:VEVENT
DTSTART;TZID=America/Caracas:20240611T080000
DTEND;TZID=America/Caracas:20240612T190000
DTSTAMP:20260425T000948
CREATED:20240611T142402Z
LAST-MODIFIED:20240611T142402Z
UID:33835-1718092800-1718218800@mujeranalitica.com
SUMMARY:Foro Chat: El sufragio como expresión de participación ciudadana
DESCRIPTION:¿Votar o no votar? ¿Para qué votar? ¿Es importante mi voto? ¿Construyo ciudadanía cuando ejerzo mi derecho al sufragio o es simplemente un voto más? ¿El voto es un derecho o un deber? \nForo Chat: El sufragio como expresión de participación ciudadana \nInvitado especial: Dr. Carlos Casanova Leal\nAbogado\, Doctor en Pedagogía\, Maestría en historia de venezuela\, Licenciado en Relaciones Industriales. Articulista de Diario La Nación y La Prensa Tachira. Director del CEFI. ULA \nMiércoles 12 de junio\, 5:00pm \nPara participar\, únete a nuestro grupo: \nhttps://chat.whatsapp.com/D2BLSD06MhN6n3vRVka1vz \nMuje y Ciudadanía\nFormando mujeres…construyendo ciudadanía
URL:https://mujeranalitica.com/evento/foro-chat-el-sufragio-como-expresion-de-participacion-ciudadana/
END:VEVENT
BEGIN:VEVENT
DTSTART;TZID=America/Caracas:20240611T080000
DTEND;TZID=America/Caracas:20240613T170000
DTSTAMP:20260425T000948
CREATED:20240611T140400Z
LAST-MODIFIED:20240611T140400Z
UID:33828-1718092800-1718298000@mujeranalitica.com
SUMMARY:Taller 5 “Configuración del Asistente Virtual
DESCRIPTION:El programa MyC Digital de la l Asociación Civil Mujer y Ciudadanía invita al taller 5 presencial del ciclo “Uso de los teléfonos inteligentes” dictado por el Community Manager Alejandro Reyes\, dirigido a líderes hombres y mujeres de cualquier edad\, que deseen formarse en el uso de los teléfonos y las redes sociales.En este Taller 5 “Configuración del Asistente Virtual” aprenderemos con la ayuda del asistente virtual\, como obtener información y realizar tareas. Hazle preguntas y pídele que haga cosas\, tendrás ayuda con solo usar la voz.. Y haremos ejercicios prácticos de lo que hemos aprendido. Se realizará en el edificio de la Biblioteca\, anexo de la Universidad Monteavila\, el jueves 13 de junio en el horario de 9.00 am a 12 mEl cupo es para 30 personas\, y pedimos una colaboración de 5$ por persona por cada taller. Pago Móvil : Banesco\, CI: 3968247 / +584143204878
URL:https://mujeranalitica.com/evento/taller-5-configuracion-del-asistente-virtual/
END:VEVENT
BEGIN:VEVENT
DTSTART;TZID=America/Caracas:20240630T090000
DTEND;TZID=America/Caracas:20240630T120000
DTSTAMP:20260425T000948
CREATED:20240630T142202Z
LAST-MODIFIED:20240630T142202Z
UID:34282-1719738000-1719748800@mujeranalitica.com
SUMMARY:Domingo Fit (Actividad Gratuita)
DESCRIPTION: 
URL:https://mujeranalitica.com/evento/domingo-fit-actividad-gratuita/
END:VEVENT
END:VCALENDAR