BEGIN:VCALENDAR
VERSION:2.0
PRODID:-//Mujer Analítica - ECPv6.15.11//NONSGML v1.0//EN
CALSCALE:GREGORIAN
METHOD:PUBLISH
X-ORIGINAL-URL:https://mujeranalitica.com
X-WR-CALDESC:Eventos para Mujer Analítica
REFRESH-INTERVAL;VALUE=DURATION:PT1H
X-Robots-Tag:noindex
X-PUBLISHED-TTL:PT1H
BEGIN:VTIMEZONE
TZID:America/Caracas
BEGIN:STANDARD
TZOFFSETFROM:-0400
TZOFFSETTO:-0400
TZNAME:-04
DTSTART:20240101T000000
END:STANDARD
END:VTIMEZONE
BEGIN:VEVENT
DTSTART;TZID=America/Caracas:20250122T170000
DTEND;TZID=America/Caracas:20250122T190000
DTSTAMP:20260424T122448
CREATED:20250123T142514Z
LAST-MODIFIED:20250123T142514Z
UID:39248-1737565200-1737572400@mujeranalitica.com
SUMMARY:Foro Chat: Conciencia Crítica
DESCRIPTION:Anisbel Trómpiz: Doctora en Pedagogía Critica\, Magister en Investigación Educativa\, Licenciada en Comunicación Social. Poeta\, actriz de teatro\, pintora Diplomados en Mujeres como agentes de cambio entre otros. \n📆Fecha: Miércoles 22 de enero\n⏰ Hora: 5:00pm (Hora Venezuela) \nParticipa\, ingresando a uno de nuestros grupos de Whatsapp:\nGrupo 1:\nhttps://chat.whatsapp.com/HJOYNnTEbyCEEm1XxOkpsa\nGrupo 2:\nhttps://chat.whatsapp.com/D2BLSD06MhN6n3vRVka1vz\nGrupo 3:\nhttps://chat.whatsapp.com/BauH7OXQcuVBhGUkJgm27V
URL:https://mujeranalitica.com/evento/foro-chat-conciencia-critica/
END:VEVENT
BEGIN:VEVENT
DTSTART;TZID=America/Caracas:20250123T100000
DTEND;TZID=America/Caracas:20250123T120000
DTSTAMP:20260424T122448
CREATED:20250119T160905Z
LAST-MODIFIED:20250119T160905Z
UID:39160-1737626400-1737633600@mujeranalitica.com
SUMMARY:Presentación del informe El derecho a la justicia de las mujeres en Venezuela
DESCRIPTION:Acceso a la Justicia\, con aportes de otras 22 organizaciones de la sociedad civil\, realizará el 23 de enero de 2025 a las 10:00 a. m. un foro virtual de presentación del informe El derecho a la justicia de las mujeres en Venezuela\, que recopila análisis y recomendaciones sobre el derecho a la justicia de las mujeres en Venezuela cuando son víctimas de violencia de género. \nLas ponentes serán Estefanía Mendoza\, especialista en derecho de mujeres y directora de la ONG Mulier; y Laura Louza\, fundadora y directora ejecutiva de la ONG Acceso a la Justicia. \nEl foro tendrá una duración de 2 horas. Para asistir\, lo invitamos a registrarse en el siguiente enlace: https://forms.gle/eNzRWe3gchpYo4j78.
URL:https://mujeranalitica.com/evento/presentacion-del-informe-el-derecho-a-la-justicia-de-las-mujeres-en-venezuela/
END:VEVENT
END:VCALENDAR