BEGIN:VCALENDAR
VERSION:2.0
PRODID:-//Mujer Analítica - ECPv6.15.11//NONSGML v1.0//EN
CALSCALE:GREGORIAN
METHOD:PUBLISH
X-WR-CALNAME:Mujer Analítica
X-ORIGINAL-URL:https://mujeranalitica.com
X-WR-CALDESC:Eventos para Mujer Analítica
REFRESH-INTERVAL;VALUE=DURATION:PT1H
X-Robots-Tag:noindex
X-PUBLISHED-TTL:PT1H
BEGIN:VTIMEZONE
TZID:America/Caracas
BEGIN:STANDARD
TZOFFSETFROM:-0400
TZOFFSETTO:-0400
TZNAME:-04
DTSTART:20240101T000000
END:STANDARD
END:VTIMEZONE
BEGIN:VEVENT
DTSTART;TZID=America/Caracas:20250204T170000
DTEND;TZID=America/Caracas:20250204T190000
DTSTAMP:20260424T105216
CREATED:20250204T124121Z
LAST-MODIFIED:20250204T124121Z
UID:39377-1738688400-1738695600@mujeranalitica.com
SUMMARY:Foro Chat: Cómo podemos huir de la pérdida de memoria
DESCRIPTION:
URL:https://mujeranalitica.com/evento/foro-chat-como-podemos-huir-de-la-perdida-de-memoria/
END:VEVENT
BEGIN:VEVENT
DTSTART;TZID=America/Caracas:20250204T200000
DTEND;TZID=America/Caracas:20250204T213000
DTSTAMP:20260424T105216
CREATED:20250205T154202Z
LAST-MODIFIED:20250205T154202Z
UID:39391-1738699200-1738704600@mujeranalitica.com
SUMMARY:Encuentro Online
DESCRIPTION:El Poder de Crear Sin Límites ✨ y manifestar la abundancia de todo lo bueno en nuestras vidas lo tenemos todos. \nEl Método Cyclopea de Activación de GlandulaPineal 💡 nos entrega La Fórmula para activarlo y muchos pinealistas lo sabemos por experiencia. \n¿Qué claves debo tener presentes para ello? ¿Cuál es el secreto para que mis órdenes creativas me funcionen? \nVamos a hacer un repaso de lo aprendido al respecto durante el Seminario de Activación en nuestro próximo Encuentro Online para Pinealistas \nPara participar sólo debes registrarte de manera gratuita en el link que encontrarás a continuación👇🏼y recibirás por correo electrónico 📧 el link 🔗 de acceso a la sala de zoom. \nhttps://info.metodopineal.net/reunion-pinealistas
URL:https://mujeranalitica.com/evento/encuentro-online/
END:VEVENT
BEGIN:VEVENT
DTSTART;TZID=America/Caracas:20250208T110000
DTEND;TZID=America/Caracas:20250208T170000
DTSTAMP:20260424T105216
CREATED:20250203T222930Z
LAST-MODIFIED:20250203T222930Z
UID:39363-1739012400-1739034000@mujeranalitica.com
SUMMARY:Lo que queda en el aire
DESCRIPTION:
URL:https://mujeranalitica.com/evento/lo-que-queda-en-el-aire/
END:VEVENT
BEGIN:VEVENT
DTSTART;TZID=America/Caracas:20250212T170000
DTEND;TZID=America/Caracas:20250212T190000
DTSTAMP:20260424T105216
CREATED:20250210T211925Z
LAST-MODIFIED:20250210T211925Z
UID:39454-1739379600-1739386800@mujeranalitica.com
SUMMARY:Foro Chat: Cᴜᴀɴᴅᴏ ᴇʟ ʜᴏɢᴀʀ ꜱᴇ ᴅɪᴠɪᴅᴇ: Eʟ ᴅᴜᴇʟᴏ ᴘᴏʀ ʟᴀ ᴍɪɢʀᴀᴄɪóɴ
DESCRIPTION: 
URL:https://mujeranalitica.com/evento/foro-chat-c%e1%b4%9c%e1%b4%80%c9%b4%e1%b4%85%e1%b4%8f-%e1%b4%87%ca%9f-%ca%9c%e1%b4%8f%c9%a2%e1%b4%80%ca%80-%ea%9c%b1%e1%b4%87-%e1%b4%85%c9%aa%e1%b4%a0%c9%aa%e1%b4%85%e1%b4%87-e%ca%9f-%e1%b4%85/
END:VEVENT
BEGIN:VEVENT
DTSTART;TZID=America/Caracas:20250213T090000
DTEND;TZID=America/Caracas:20250213T110000
DTSTAMP:20260424T105216
CREATED:20250203T223111Z
LAST-MODIFIED:20250203T223111Z
UID:39366-1739437200-1739444400@mujeranalitica.com
SUMMARY:Lo plateado también vale
DESCRIPTION:
URL:https://mujeranalitica.com/evento/lo-plateado-tambien-vale/
END:VEVENT
BEGIN:VEVENT
DTSTART;TZID=America/Caracas:20250216T170000
DTEND;TZID=America/Caracas:20250216T190000
DTSTAMP:20260424T105216
CREATED:20250215T223604Z
LAST-MODIFIED:20250215T223604Z
UID:39518-1739725200-1739732400@mujeranalitica.com
SUMMARY:Conversatorio: Lo que queda en el aire
DESCRIPTION: 
URL:https://mujeranalitica.com/evento/conversatorio-lo-que-queda-en-el-aire/
END:VEVENT
BEGIN:VEVENT
DTSTART;TZID=America/Caracas:20250218T090000
DTEND;TZID=America/Caracas:20250218T120000
DTSTAMP:20260424T105216
CREATED:20250215T223404Z
LAST-MODIFIED:20250215T223404Z
UID:39515-1739869200-1739880000@mujeranalitica.com
SUMMARY:Conversatorio: Mujeres y Niñas en Ciencias
DESCRIPTION:📢 ¡Únete a nuestro Conversatorio «Mujeres y Niñas en Ciencias: Inspirando con el Pasado\, Innovando en el Presente\, Hacia un Futuro Sostenible»! 🌟👩‍🔬🔬 \n💬 “Un legado de inspiración y un mundo lleno de posibilidades. La ciencia no tiene fronteras\, y juntos podemos construir un futuro sostenible.” 🌍✨ \n🗓 Fecha: 18 de febrero de 2025 🕘 Hora: 9:00 a.m. 📍 Lugar: Auditorio Simón Bolívar\, Instituto Pedagógico de Caracas \n✨ ¡Entrada gratuita y presencial! \n🌟 Ponentes:\nSandra Leal Huise (CIMAFI – IPC – USB)\nAmalia Torrealba Sanoja (AVOQUIM)\nElizabeth Rojas Calderón (ONCTI – MPPCT)\nRafael Pujol Michelena (CICNAT – IPC)\nSergio Foghin-Pillin (CIEMEFIVE – IPC) \nEste evento es organizado por el Centro de Investigación: Estudios del Medio Físico Venezolano (CIEMEFIVE). ¡No te lo pierdas y sé parte del cambio! 🌱✨ \n🎉 ¡Te esperamos con los brazos abiertos para compartir un día lleno de conocimiento y emoción! 🌟
URL:https://mujeranalitica.com/evento/conversatorio-mujeres-y-ninas-en-ciencias/
END:VEVENT
BEGIN:VEVENT
DTSTART;TZID=America/Caracas:20250219T080000
DTEND;TZID=America/Caracas:20250228T170000
DTSTAMP:20260424T105216
CREATED:20250219T195535Z
LAST-MODIFIED:20250219T195535Z
UID:39548-1739952000-1740762000@mujeranalitica.com
SUMMARY:Programa de Formación sobre Escritura de Guiones de Ficción
DESCRIPTION:Programa de Formación «Escritura de Guiones de Ficción». Aprende de la mano del «Dream Team de Guionistas» Gustavo Michelena\, Edgar Mejías y Rolando Chávez quienes junto a Anisbel Trómpiz y Carlos Lasala darán esta formación. \nNo dejes pasar esta oportunidad. Cupos limitados y se agotan rápido. \nEscribe  al WA 0424-2592659 para mas información. ¡No te lo pierdas!
URL:https://mujeranalitica.com/evento/programa-de-formacion-sobre-escritura-de-guiones-de-ficcion/
END:VEVENT
BEGIN:VEVENT
DTSTART;TZID=America/Caracas:20250219T170000
DTEND;TZID=America/Caracas:20250219T190000
DTSTAMP:20260424T105216
CREATED:20250219T175259Z
LAST-MODIFIED:20250219T175259Z
UID:39545-1739984400-1739991600@mujeranalitica.com
SUMMARY:𝗙𝗼𝗿𝗼 𝗖𝗵𝗮𝘁: 𝗖ó𝗺𝗼 𝗲𝗺𝗽𝗿𝗲𝗻𝗱𝗲𝗿 𝗲𝗻 𝗹𝗮 𝗰𝗼𝘀𝘁𝘂𝗿𝗮 𝘀𝗶𝗻 𝘀𝗮𝗯𝗲𝗿 𝗽𝗲𝗴𝗮𝗿 𝘂𝗻 𝗯𝗼𝘁ó𝗻
DESCRIPTION:
URL:https://mujeranalitica.com/evento/%f0%9d%97%99%f0%9d%97%bc%f0%9d%97%bf%f0%9d%97%bc-%f0%9d%97%96%f0%9d%97%b5%f0%9d%97%ae%f0%9d%98%81-%f0%9d%97%96o%f0%9d%97%ba%f0%9d%97%bc-%f0%9d%97%b2%f0%9d%97%ba%f0%9d%97%bd%f0%9d%97%bf%f0%9d%97%b2/
END:VEVENT
BEGIN:VEVENT
DTSTART;TZID=America/Caracas:20250220T150000
DTEND;TZID=America/Caracas:20250220T170000
DTSTAMP:20260424T105216
CREATED:20250220T161424Z
LAST-MODIFIED:20250220T161424Z
UID:39559-1740063600-1740070800@mujeranalitica.com
SUMMARY:Programa Radial: A Plena Tarde ¡Cerquita del Ávila!
DESCRIPTION:Conducido por Ana Teresa Rodríguez y Pablo Jesús Hernández\nSíguenos por nuestras cuentas IG y tiktok:\n@interiorismo.28\nFcb: Ana T Rodríguez Interiorismo \nPrograma de lenguaje\, salud\, sexo y violencia tipo “A” dirigido a todo público\, que puede ser escuchado por niños\, niñas y adolescentes sin la supervisión de padres\, madres o representantes. \nEl día jueves 20 de febrero\, participarán como entrevistadas Omaira Montero y Dianora Farfán\, miembros de Mujer y Ciudadanía\, quienes estarán  hablando del Diplomado Mujeres como Agentes de Cambio. \nPuedes escucharnos por las siguientes plataformas: \nSeñal Abierta RNP 101.1 FM\nCaracas / La Guaira \nVia Streaming:\nhttps://radionegroprimero.blogspot.com\nStreaming Radio Libre: liveonlineradio.net/es/radio-negro-primero.1011-fm
URL:https://mujeranalitica.com/evento/programa-radial-a-plena-tarde-cerquita-del-avila/
END:VEVENT
BEGIN:VEVENT
DTSTART;TZID=America/Caracas:20250222T080000
DTEND;TZID=America/Caracas:20250222T110000
DTSTAMP:20260424T105216
CREATED:20250211T222809Z
LAST-MODIFIED:20250211T222809Z
UID:39475-1740211200-1740222000@mujeranalitica.com
SUMMARY:El Poder del Autocuidado
DESCRIPTION:La Federación De Mujeres Para la Paz Mundial Venezuela invita a un encuentro especial del día del amor y amistad para celebrar también el amor propio. \nAprenderás herramientas de autocuidado\, técnicas que te permitirán trabajar en tu bienestar físico-mental \nSerá una experiencia fascinante con nuestra invitada especial: Betty Núñez Socióloga\, máster coach life también trabaja el área psicocorporal en sus conferencias y eventos. \nQueremos que asistas\, necesitas confirmarnos \, reserva tu cupo en el link. Apúntate ahora\, porque tenemos cupos super limitados.🙂 \nDetalles del Taller:\n📅 Fecha: sábado 22 de febrero de 2025\n🕒 Hora: 8am a 11am.\n📍 Lugar: Hotel Eurobuilding\, Caracas. \nTe animamos a llegar con una mente abierta y lista para conectar contigo mismo y con otros participantes. \n¡Será una experiencia enriquecedora! \nSi tienes alguna pregunta o necesitas más información\, no dudes en contactarnos. Estamos aquí para ayudarte. \n¡Nos vemos pronto! \nConfirma tu asistencia\, llenando el siguiente formulario: \nhttps://forms.gle/NCuMsXDtsJMzwAS2A
URL:https://mujeranalitica.com/evento/el-poder-del-autocuidado/
END:VEVENT
BEGIN:VEVENT
DTSTART;TZID=America/Caracas:20250225T110000
DTEND;TZID=America/Caracas:20250225T130000
DTSTAMP:20260424T105216
CREATED:20250215T223837Z
LAST-MODIFIED:20250215T223837Z
UID:39521-1740481200-1740488400@mujeranalitica.com
SUMMARY:Documental: Sembrando Resistencia
DESCRIPTION:En la selva central de Perú\, tres generaciones de mujeres Indígenas Asháninkas y Yaneshas se enfrentan a múltiples formas de violencia (extractivismo\, racismo y machismo) en medio de la crisis climática. A pesar de este complejo panorama\, las mujeres Indígenas dan una lección de valentia y liderazgo\, que ha impulsado a sus comunidades a seguir protegiendo sus espacios sagrados\, a no perder sus conocimientos ancestrales\, a reforestar la tierra\, y proteger sus fuentes de agua en nombre de la soberanía territorial. \nEste documental es el resultado de la iniciativa de Video Consortium\, que conecta a cineastas regionales e innovadores sociales para producir documentales centrados en soluciones que catalizan un cambio positivo. Cuenta con el apoyo de la Iniciativa para los Derechos y Recursos (RRI)\, la Organización Nacional de Mujeres Indígenas Andinas y Amazónicas del Perú (ONAMIAP) y Skoll Foundation. \nAgenda\n• Palabras de bienvenida: Gabriel Diamond\, productor de vídeo\, Skoll Foundation\n• Presentación del documental: Sembrando Resistencia\n• Mesa redonda y sesion de preguntas y respuestas con:\n Elida de la Cruz\, Karen Hueré y María López\, líderesas Indígenas y protagonistas\n Juan Llacsa\, cineasta y director del documental\n Ketty Marcelo\, presidenta de ONAMIAP\n Omaira Bolaños\, directora del Programa de Género y Justicia\, RRI\n Madiha Waris\, directora del Programa de Comunicaciones Estratégicas\, RRI \n• Moderadora: Andrea Arauz\, Video Consortium/SSP \nÚnete a esta inspiradora conversación sobre el liderazgo y resiliencia de las mujeres Indígenas frente a los desafíos medioambientales. \nhttps://videoconsortium.zoom.us/webinar/register/WN_-ba4KtL8Qb6XirvV3MzJXA#/registration
URL:https://mujeranalitica.com/evento/documental-sembrando-resistencia/
END:VEVENT
BEGIN:VEVENT
DTSTART;TZID=America/Caracas:20250225T180000
DTEND;TZID=America/Caracas:20250225T200000
DTSTAMP:20260424T105216
CREATED:20250224T135403Z
LAST-MODIFIED:20250224T135403Z
UID:39570-1740506400-1740513600@mujeranalitica.com
SUMMARY:Desapariciones de adolescentes y mujeres
DESCRIPTION:
URL:https://mujeranalitica.com/evento/desapariciones-de-adolescentes-y-mujeres/
END:VEVENT
BEGIN:VEVENT
DTSTART;TZID=America/Caracas:20250226T160000
DTEND;TZID=America/Caracas:20250226T180000
DTSTAMP:20260424T105216
CREATED:20250220T210056Z
LAST-MODIFIED:20250220T210056Z
UID:39564-1740585600-1740592800@mujeranalitica.com
SUMMARY:Charla: La importancia de la cultura Indígena en la gastronomía venezolana
DESCRIPTION:
URL:https://mujeranalitica.com/evento/charla-la-importancia-de-la-cultura-indigena-en-la-gastronomia-venezolana/
END:VEVENT
BEGIN:VEVENT
DTSTART;TZID=America/Caracas:20250227T160000
DTEND;TZID=America/Caracas:20250227T180000
DTSTAMP:20260424T105216
CREATED:20250220T160311Z
LAST-MODIFIED:20250220T160311Z
UID:39556-1740672000-1740679200@mujeranalitica.com
SUMMARY:Presentación: Hacer el bien y hacer las cosas bien
DESCRIPTION:
URL:https://mujeranalitica.com/evento/presentacion-hacer-el-bien-y-hacer-las-cosas-bien/
END:VEVENT
END:VCALENDAR