BEGIN:VCALENDAR
VERSION:2.0
PRODID:-//Mujer Analítica - ECPv6.15.11//NONSGML v1.0//EN
CALSCALE:GREGORIAN
METHOD:PUBLISH
X-WR-CALNAME:Mujer Analítica
X-ORIGINAL-URL:https://mujeranalitica.com
X-WR-CALDESC:Eventos para Mujer Analítica
REFRESH-INTERVAL;VALUE=DURATION:PT1H
X-Robots-Tag:noindex
X-PUBLISHED-TTL:PT1H
BEGIN:VTIMEZONE
TZID:America/Caracas
BEGIN:STANDARD
TZOFFSETFROM:-0400
TZOFFSETTO:-0400
TZNAME:-04
DTSTART:20240101T000000
END:STANDARD
END:VTIMEZONE
BEGIN:VEVENT
DTSTART;TZID=America/Caracas:20250702T160000
DTEND;TZID=America/Caracas:20250702T180000
DTSTAMP:20260424T020044
CREATED:20250702T184439Z
LAST-MODIFIED:20250702T184439Z
UID:41144-1751472000-1751479200@mujeranalitica.com
SUMMARY:Master Class sobre Acoso Escolar
DESCRIPTION:
URL:https://mujeranalitica.com/evento/master-class-sobre-acoso-escolar/
END:VEVENT
BEGIN:VEVENT
DTSTART;TZID=America/Caracas:20250702T170000
DTEND;TZID=America/Caracas:20250702T190000
DTSTAMP:20260424T020044
CREATED:20250628T215227Z
LAST-MODIFIED:20250628T215227Z
UID:41096-1751475600-1751482800@mujeranalitica.com
SUMMARY:Foro Chat: Persona Vitamina
DESCRIPTION:Participa ingresando a nuestro grupo de whatsapp:\nhttps://chat.whatsapp.com/HJOYNnTEbyCEEm1XxOkpsa
URL:https://mujeranalitica.com/evento/foro-chat-persona-vitamina/
END:VEVENT
BEGIN:VEVENT
DTSTART;TZID=America/Caracas:20250709T170000
DTEND;TZID=America/Caracas:20250709T190000
DTSTAMP:20260424T020044
CREATED:20250709T143515Z
LAST-MODIFIED:20250709T143515Z
UID:41183-1752080400-1752087600@mujeranalitica.com
SUMMARY:Foro Chat:  Repotencia tu Pyme
DESCRIPTION:🌟 Participa ingresando a uno de nuestros grupos de whatsapp:\nGrupo 1\nhttps://chat.whatsapp.com/HJOYNnTEbyCEEm1XxOkpsa\nGrupo 2\nhttps://chat.whatsapp.com/D2BLSD06MhN6n3vRVka1vz\nGrupo 3\nhttps://chat.whatsapp.com/BauH7OXQcuVBhGUkJgm27V \nMujer y Ciudadanía\nFormando mujeres…construyendo ciudadanía
URL:https://mujeranalitica.com/evento/foro-chat-repotencia-tu-pyme/
END:VEVENT
BEGIN:VEVENT
DTSTART;TZID=America/Caracas:20250716T093000
DTEND;TZID=America/Caracas:20250716T170000
DTSTAMP:20260424T020044
CREATED:20250711T212143Z
LAST-MODIFIED:20250711T212143Z
UID:41220-1752658200-1752685200@mujeranalitica.com
SUMMARY:Charlas sobre Salud
DESCRIPTION:Las invitamos una vez más y no se pierdan este ciclo de charlas que estará genial\, es justo detrás de la casa guipuzcoana en la Guaira\, en la sede Casa Vargas de la Simón Bolívar. \nLa Universidad Simón Bolívar Sede Litoral y Ciclo Digno \n🚨Te invitamos este 16/07 a disfrutar de un ciclo de micro charlas gratuitas\, destinadas a ofrecerte información sobre: salud íntima femenina\, métodos sostenibles para prevenir la probreza menstrual y cuidado integral de la mujer. \nEsto será en:\n⚠️_Universidad Simón Bolívar en su Sede de Casa Vargas (detrás del antiguo ipostel) en el casco histórico de la Guaira a las 9:30 am._⚠️ \n📌Regístrate en este form\nhttps://forms.gle/ZrRLuXpE9r1MPRLq7 \nHabrá sorpresas y mucha información valiosa para ti mujer que quieres vencer\, muchos tabúes asociados a la menstruación 🩸 \nNo dejes de registrarteeee\, hay sorpresas!!!!
URL:https://mujeranalitica.com/evento/charlas-sobre-salud/
END:VEVENT
BEGIN:VEVENT
DTSTART;TZID=America/Caracas:20250716T170000
DTEND;TZID=America/Caracas:20250716T183000
DTSTAMP:20260424T020044
CREATED:20250713T135731Z
LAST-MODIFIED:20250713T135731Z
UID:41243-1752685200-1752690600@mujeranalitica.com
SUMMARY:Foro Chat: El Acoso Escolar
DESCRIPTION:  \n📆 Fecha: Miércoles 16 de julio 2025\n🕜 Hora: 5:00pm (Hora Venezuela)\n📱 Aplicación: Whatsapp \n🤳🏻 Ingresa solo a uno de los grupos del Foro Chat:\nGrupo 1\nhttps://chat.whatsapp.com/HJOYNnTEbyCEEm1XxOkpsa\nGrupo 2\nhttps://chat.whatsapp.com/D2BLSD06MhN6n3vRVka1vz\nGrupo 3\nhttps://chat.whatsapp.com/BauH7OXQcuVBhGUkJgm27V \nMujer y Ciudadanía\nFormando mujeres…construyendo ciudadanía \n@mujeranalitica https://goo.su/fW9L9Sz\n@mujerescambiandoalmundo https://goo.su/gA45j\n@mujeryciudadania https://goo.su/0uCjcp\n@espaciocivilac https://goo.su/cEZHn\nRevista Mujer Analítica www.mujeranalitica.com
URL:https://mujeranalitica.com/evento/foro-chat-el-acoso-escolar/
END:VEVENT
BEGIN:VEVENT
DTSTART;TZID=America/Caracas:20250723T170000
DTEND;TZID=America/Caracas:20250723T190000
DTSTAMP:20260424T020044
CREATED:20250723T113244Z
LAST-MODIFIED:20250723T113244Z
UID:41340-1753290000-1753297200@mujeranalitica.com
SUMMARY:Foro Chat: ABC de las Masculinidades
DESCRIPTION:🤳🏻 Ingresa solo a uno de los grupos del Foro Chat:\nGrupo 1\nhttps://chat.whatsapp.com/HJOYNnTEbyCEEm1XxOkpsa\nGrupo 2\nhttps://chat.whatsapp.com/D2BLSD06MhN6n3vRVka1vz\nGrupo 3\nhttps://chat.whatsapp.com/BauH7OXQcuVBhGUkJgm27V
URL:https://mujeranalitica.com/evento/foro-chat-abc-de-las-masculinidades/
END:VEVENT
BEGIN:VEVENT
DTSTART;TZID=America/Caracas:20250730T170000
DTEND;TZID=America/Caracas:20250730T190000
DTSTAMP:20260424T020044
CREATED:20250802T222143Z
LAST-MODIFIED:20250802T222143Z
UID:41521-1753894800-1753902000@mujeranalitica.com
SUMMARY:Foro Chat: Implantes Dentales vs. Prótesis Fija
DESCRIPTION:📆 Fecha: Miércoles 30 de julio 2025\n🕜 Hora: 5:00pm (Hora Venezuela)\n📱 Aplicación: Whatsapp \n🤳🏻 Ingresa a nuestro grupo del Foro Chat:\nhttps://chat.whatsapp.com/D2BLSD06MhN6n3vRVka1vz \nMujer y Ciudadanía\nFormando mujeres…construyendo ciudadanía
URL:https://mujeranalitica.com/evento/foro-chat-implantes-dentales-vs-protesis-fija/
END:VEVENT
END:VCALENDAR