BEGIN:VCALENDAR
VERSION:2.0
PRODID:-//Mujer Analítica - ECPv6.15.11//NONSGML v1.0//EN
CALSCALE:GREGORIAN
METHOD:PUBLISH
X-ORIGINAL-URL:https://mujeranalitica.com
X-WR-CALDESC:Eventos para Mujer Analítica
REFRESH-INTERVAL;VALUE=DURATION:PT1H
X-Robots-Tag:noindex
X-PUBLISHED-TTL:PT1H
BEGIN:VTIMEZONE
TZID:America/Caracas
BEGIN:STANDARD
TZOFFSETFROM:-0400
TZOFFSETTO:-0400
TZNAME:-04
DTSTART:20240101T000000
END:STANDARD
END:VTIMEZONE
BEGIN:VEVENT
DTSTART;TZID=America/Caracas:20251114T083000
DTEND;TZID=America/Caracas:20251114T120000
DTSTAMP:20260423T190813
CREATED:20251113T205621Z
LAST-MODIFIED:20251113T205621Z
UID:50084-1763109000-1763121600@mujeranalitica.com
SUMMARY:Taller sobre "Formas de Violencia y sus Rostros"
DESCRIPTION:Dirección: Avenida Universidad\, casa Insurgente (punto de referencia al lado del Banco de Venezuela principal) Distrito Capital\, Venezuela.
URL:https://mujeranalitica.com/evento/taller-sobre-formas-de-violencia-y-sus-rostros/
END:VEVENT
BEGIN:VEVENT
DTSTART;TZID=America/Caracas:20251127T180000
DTEND;TZID=America/Caracas:20251127T210000
DTSTAMP:20260423T190813
CREATED:20251113T220025Z
LAST-MODIFIED:20251113T220025Z
UID:50087-1764266400-1764277200@mujeranalitica.com
SUMMARY:Conversatorio Internacional: "Las mujeres con discapacidad frente a la no violencia".
DESCRIPTION:En el marco del día de la no violencia contra la mujer\, la Maestría en Discapacidad\, Salud y Derechos Humanos de la Universidad ICESI invita al conversatorio internacional: «Las mujeres con discapacidad frente a la no violencia».\nEn este espacio estará participando nuestra Presidenta Ericka Álvarez Ramírez y nuestra vice presidenta Damaris Solano Murillo junto a otras expertas de México y Perú\, quienes compartirán experiencias y estrategias para erradicar la discriminación y promover entornos inclusivos y seguros para todas.\n🗓️ 27 de noviembre | 6:00 p.m.\n💻 100% Virtual\n🔗 Inscríbete en:https://www.icesi.edu.co/r/rUwJf
URL:https://mujeranalitica.com/evento/conversatorio-internacional-las-mujeres-con-discapacidad-frente-a-la-no-violencia/
END:VEVENT
BEGIN:VEVENT
DTSTART;TZID=America/Caracas:20251129T163000
DTEND;TZID=America/Caracas:20251129T233000
DTSTAMP:20260423T190813
CREATED:20251111T175140Z
LAST-MODIFIED:20251111T175140Z
UID:50068-1764433800-1764459000@mujeranalitica.com
SUMMARY:Tarde de Boleros
DESCRIPTION:Ven a celebrar con nosotros el 19° aniversario de la Fundación Cainte Adulto Mayor en una velada única en la terraza del Hotel Pestana. Disfruta de un encuentro con el recuerdo\, donde la magia de los boleros se hará presente\, interpretada por los talentosos Evlin Pérez y el maestro Pedrito López al piano. \nSerá una tarde para cantar\, disfrutar y desconectar. \n📅 Fecha: Sábado 29 de noviembre\n🕟 Hora: 4:30 p.m.\n🎟️ Entrada: $25 (con una copa de bienvenida)\nInfo y venta aquí: https://eventosvipmch.com.ve/project/encuentro-con-el-recuerdo-tarde-de-boleros-cainte/ \nMás información al +58 424-1480720 \n¡No faltes! Una tarde de emociones\, música y mucha diversión te espera. 🌹🎤
URL:https://mujeranalitica.com/evento/tarde-de-boleros/
END:VEVENT
END:VCALENDAR